BEGIN:VCALENDAR
VERSION:2.0
PRODID:-//Serving Nonprofits. Strengthening West Virginia - ECPv6.15.14//NONSGML v1.0//EN
CALSCALE:GREGORIAN
METHOD:PUBLISH
X-WR-CALNAME:Serving Nonprofits. Strengthening West Virginia
X-ORIGINAL-URL:https://wvnpa.org
X-WR-CALDESC:Events for Serving Nonprofits. Strengthening West Virginia
REFRESH-INTERVAL;VALUE=DURATION:PT1H
X-Robots-Tag:noindex
X-PUBLISHED-TTL:PT1H
BEGIN:VTIMEZONE
TZID:America/New_York
BEGIN:DAYLIGHT
TZOFFSETFROM:-0500
TZOFFSETTO:-0400
TZNAME:EDT
DTSTART:20250309T070000
END:DAYLIGHT
BEGIN:STANDARD
TZOFFSETFROM:-0400
TZOFFSETTO:-0500
TZNAME:EST
DTSTART:20251102T060000
END:STANDARD
BEGIN:DAYLIGHT
TZOFFSETFROM:-0500
TZOFFSETTO:-0400
TZNAME:EDT
DTSTART:20260308T070000
END:DAYLIGHT
BEGIN:STANDARD
TZOFFSETFROM:-0400
TZOFFSETTO:-0500
TZNAME:EST
DTSTART:20261101T060000
END:STANDARD
BEGIN:DAYLIGHT
TZOFFSETFROM:-0500
TZOFFSETTO:-0400
TZNAME:EDT
DTSTART:20270314T070000
END:DAYLIGHT
BEGIN:STANDARD
TZOFFSETFROM:-0400
TZOFFSETTO:-0500
TZNAME:EST
DTSTART:20271107T060000
END:STANDARD
END:VTIMEZONE
BEGIN:VEVENT
DTSTART;TZID=America/New_York:20260420T110000
DTEND;TZID=America/New_York:20260420T120000
DTSTAMP:20260420T055652
CREATED:20260409T191914Z
LAST-MODIFIED:20260409T191914Z
UID:14860-1776682800-1776686400@wvnpa.org
SUMMARY:Improving Employee Recruitment and Retention Through Child Care Investment
DESCRIPTION:This webinar is being hosted by the WVNPA \nApril 20th\, 11:00 AM – 12:00 PM \nRegistration Fees: Free \nREGISTER\nChild care costs continue to pose a major challenge to employee recruitment\, retention\, and economic growth across West Virginia. To address this issue\, the West Virginia Nonprofit Association [and Philanthropy West Virginia] are partnering with Wonderschool to host a free informational webinar on Monday\, April 20\, from 11:00am-12:00pm. The session will spotlight Tri-Share\, a new child care initiative funded by an Appalachian Regional Commission (ARC) POWER grant in partnership with the WV Small Business Development Center (WVSBDC). \nAs Governor Morrisey noted\, “Improving workforce participation—that’s the challenge of our time…it’s the biggest issue we have here in the state.”  In response\, the Tri-Share Child Care Program is a fully funded pilot that splits child care costs among the employer\, employee\, and the state. This innovative approach helps employers attract and retain talent while easing the burden on working families. \nIn this webinar\, you’ll learn: \n\nHow the Tri-Share program works\nHow employers and providers can participate\nPractical steps to get involved\n\nEligibility: The current pilot is available to any employer in Boone\, Jackson\, Kanawha\, Lincoln\, Mason\, Putnam\, Roane\, or Wirt counties. Also\, based on the recently approved Governor’s budget\, the pilot is expected to expand statewide over the summer. Therefore\, we encourage all organizations\, regardless of where they are based\, to attend the webinar to learn more. \nThis is a valuable opportunity to explore how investing in childcare can strengthen your workforce and support your community’s long-term success.
URL:https://wvnpa.org/event/improving-employee-recruitment-and-retention-through-child-care-investment/
LOCATION:Webinar\, WV\, United States
CATEGORIES:Webinar
ATTACH;FMTTYPE=image/png:https://wvnpa.org/content/uploads/wvnpa-full-logo-1-scaled-e1763064214378.png
END:VEVENT
END:VCALENDAR