BEGIN:VCALENDAR
VERSION:2.0
PRODID:-//Serving Nonprofits. Strengthening West Virginia - ECPv6.15.14//NONSGML v1.0//EN
CALSCALE:GREGORIAN
METHOD:PUBLISH
X-WR-CALNAME:Serving Nonprofits. Strengthening West Virginia
X-ORIGINAL-URL:https://wvnpa.org
X-WR-CALDESC:Events for Serving Nonprofits. Strengthening West Virginia
REFRESH-INTERVAL;VALUE=DURATION:PT1H
X-Robots-Tag:noindex
X-PUBLISHED-TTL:PT1H
BEGIN:VTIMEZONE
TZID:America/New_York
BEGIN:DAYLIGHT
TZOFFSETFROM:-0500
TZOFFSETTO:-0400
TZNAME:EDT
DTSTART:20250309T070000
END:DAYLIGHT
BEGIN:STANDARD
TZOFFSETFROM:-0400
TZOFFSETTO:-0500
TZNAME:EST
DTSTART:20251102T060000
END:STANDARD
BEGIN:DAYLIGHT
TZOFFSETFROM:-0500
TZOFFSETTO:-0400
TZNAME:EDT
DTSTART:20260308T070000
END:DAYLIGHT
BEGIN:STANDARD
TZOFFSETFROM:-0400
TZOFFSETTO:-0500
TZNAME:EST
DTSTART:20261101T060000
END:STANDARD
BEGIN:DAYLIGHT
TZOFFSETFROM:-0500
TZOFFSETTO:-0400
TZNAME:EDT
DTSTART:20270314T070000
END:DAYLIGHT
BEGIN:STANDARD
TZOFFSETFROM:-0400
TZOFFSETTO:-0500
TZNAME:EST
DTSTART:20271107T060000
END:STANDARD
END:VTIMEZONE
BEGIN:VEVENT
DTSTART;TZID=America/New_York:20260423T120000
DTEND;TZID=America/New_York:20260423T130000
DTSTAMP:20260423T021853
CREATED:20260327T125321Z
LAST-MODIFIED:20260327T125407Z
UID:14678-1776945600-1776949200@wvnpa.org
SUMMARY:Grants 101 Series: Understanding Matching Funds
DESCRIPTION:This webinar is being hosted by WV Grant Resource Centers \nApril 23rd\, 12:00 PM – 1:00 PM \nRegistration Fees: Free \nREGISTER\nNot sure what “matching funds” really means in a grant application? This LGAS will walk through the basics of match requirements\, including what counts and what doesn’t\, and how to document matches properly. Perfect for anyone new to grants or looking for a refresher. \nThis Live Grant Assistance Session is part of our eight-part Grants 101 Series\, where we will cover a variety of topics relating to grant writing and pre-award assembly. We hope you can join us and encourage you to check our calendar for upcoming sessions in this series.
URL:https://wvnpa.org/event/grants-101-series-understanding-matching-funds/
LOCATION:Webinar\, WV\, United States
ATTACH;FMTTYPE=image/png:https://wvnpa.org/content/uploads/WV-Grant-Rescource-Centers-e1756387731134.png
END:VEVENT
END:VCALENDAR