BEGIN:VCALENDAR
VERSION:2.0
PRODID:-//Serving Nonprofits. Strengthening West Virginia - ECPv6.15.14//NONSGML v1.0//EN
CALSCALE:GREGORIAN
METHOD:PUBLISH
X-ORIGINAL-URL:https://wvnpa.org
X-WR-CALDESC:Events for Serving Nonprofits. Strengthening West Virginia
REFRESH-INTERVAL;VALUE=DURATION:PT1H
X-Robots-Tag:noindex
X-PUBLISHED-TTL:PT1H
BEGIN:VTIMEZONE
TZID:America/New_York
BEGIN:DAYLIGHT
TZOFFSETFROM:-0500
TZOFFSETTO:-0400
TZNAME:EDT
DTSTART:20220313T070000
END:DAYLIGHT
BEGIN:STANDARD
TZOFFSETFROM:-0400
TZOFFSETTO:-0500
TZNAME:EST
DTSTART:20221106T060000
END:STANDARD
BEGIN:DAYLIGHT
TZOFFSETFROM:-0500
TZOFFSETTO:-0400
TZNAME:EDT
DTSTART:20230312T070000
END:DAYLIGHT
BEGIN:STANDARD
TZOFFSETFROM:-0400
TZOFFSETTO:-0500
TZNAME:EST
DTSTART:20231105T060000
END:STANDARD
BEGIN:DAYLIGHT
TZOFFSETFROM:-0500
TZOFFSETTO:-0400
TZNAME:EDT
DTSTART:20240310T070000
END:DAYLIGHT
BEGIN:STANDARD
TZOFFSETFROM:-0400
TZOFFSETTO:-0500
TZNAME:EST
DTSTART:20241103T060000
END:STANDARD
END:VTIMEZONE
BEGIN:VEVENT
DTSTART;TZID=America/New_York:20230404T110000
DTEND;TZID=America/New_York:20230404T120000
DTSTAMP:20260419T113348
CREATED:20230217T142225Z
LAST-MODIFIED:20230221T204853Z
UID:11177-1680606000-1680609600@wvnpa.org
SUMMARY:Nonprofit Knowledge Book Club
DESCRIPTION:Did you make a New Year’s Resolution to read more?  The WVNPA is here to help!\nJoin us for the first meeting of the Nonprofit Knowledge Book Club on April 4th from 11:00 AM – 12:00 PM.  We will be discussing The Little Book of Nonprofit Leadership: An Executive Director’s Handbook for Small (and Very Small) Nonprofits by Erik Hanberg. \nThis is a FREE session for all who want to join!  Email hilaria@dev.wvnpa.org to be added to the club. \nREGISTER for the meeting! \nDetails on upcoming books and meeting dates will be discussed in April. 
URL:https://wvnpa.org/event/nonprofit-knowledge-book-club/
LOCATION:Webinar\, WV\, United States
CATEGORIES:Meeting,WVNPA
ATTACH;FMTTYPE=image/png:https://wvnpa.org/content/uploads/Nonprofit-1-e1676644405907.png
END:VEVENT
END:VCALENDAR