BEGIN:VCALENDAR
VERSION:2.0
PRODID:-//Serving Nonprofits. Strengthening West Virginia - ECPv6.15.14//NONSGML v1.0//EN
CALSCALE:GREGORIAN
METHOD:PUBLISH
X-ORIGINAL-URL:https://wvnpa.org
X-WR-CALDESC:Events for Serving Nonprofits. Strengthening West Virginia
REFRESH-INTERVAL;VALUE=DURATION:PT1H
X-Robots-Tag:noindex
X-PUBLISHED-TTL:PT1H
BEGIN:VTIMEZONE
TZID:America/New_York
BEGIN:DAYLIGHT
TZOFFSETFROM:-0500
TZOFFSETTO:-0400
TZNAME:EDT
DTSTART:20200308T070000
END:DAYLIGHT
BEGIN:STANDARD
TZOFFSETFROM:-0400
TZOFFSETTO:-0500
TZNAME:EST
DTSTART:20201101T060000
END:STANDARD
BEGIN:DAYLIGHT
TZOFFSETFROM:-0500
TZOFFSETTO:-0400
TZNAME:EDT
DTSTART:20210314T070000
END:DAYLIGHT
BEGIN:STANDARD
TZOFFSETFROM:-0400
TZOFFSETTO:-0500
TZNAME:EST
DTSTART:20211107T060000
END:STANDARD
BEGIN:DAYLIGHT
TZOFFSETFROM:-0500
TZOFFSETTO:-0400
TZNAME:EDT
DTSTART:20220313T070000
END:DAYLIGHT
BEGIN:STANDARD
TZOFFSETFROM:-0400
TZOFFSETTO:-0500
TZNAME:EST
DTSTART:20221106T060000
END:STANDARD
END:VTIMEZONE
BEGIN:VEVENT
DTSTART;TZID=America/New_York:20210113T140000
DTEND;TZID=America/New_York:20210113T153000
DTSTAMP:20260423T212604
CREATED:20201208T212233Z
LAST-MODIFIED:20201208T212500Z
UID:7747-1610546400-1610551800@wvnpa.org
SUMMARY:Getting Your 2020 1099's Out of QuickBooks Desktop
DESCRIPTION:WVNPA Members get a $35 discount! \nIt’s year-end and time to get out your 1099’s! Join this timely webinar where Gregg S. Bossen CPA will walk you through how to get your 1099’s directly out of your QuickBooks File. Topics include: \n\nStep by Step Set Up Walk Thru (can be done in 2021 for 2020 1099’s)\n– Setting up Vendors\n– Telling QuickBooks which transactions go on the 1099\nReview 1099 info before creating\nAdjusting a 1099 amount to correct the total\nCreating and Sending 1099’s to Contractors\nReporting 1099’s to the IRS with the 1096 Cover Sheet\n\nhttps://quickbooksmadeeasy.com/event/1099s-quickbooks-desktop/ \nJanuary 13 (Wed) 2:00-3:30pm\nPrice: $99 (WVNPA Members pay $64)\nWest Virginia Nonprofit Association members receive $30 off when placing their order.\nEmail amanda@dev.wvnpa.org for the discount code.
URL:https://wvnpa.org/event/getting-your-2020-1099s-out-of-quickbooks-desktop/
LOCATION:WV\, United States
CATEGORIES:Webinar
END:VEVENT
BEGIN:VEVENT
DTSTART;TZID=America/New_York:20210114T140000
DTEND;TZID=America/New_York:20210114T153000
DTSTAMP:20260423T212604
CREATED:20201208T212704Z
LAST-MODIFIED:20201208T212732Z
UID:7756-1610632800-1610638200@wvnpa.org
SUMMARY:Getting Your 2020 1099's Out of QuickBooks Online
DESCRIPTION:WVNPA Members get a $35 discount! \nIt’s year-end and time to get out your 1099’s! Join this timely webinar where Gregg S. Bossen CPA will walk you through how to get your 1099’s directly out of your QuickBooks File. Topics include: \n\nStep by Step Set Up Walk Thru (can be done in 2021 for 2020 1099’s)\n– Setting up Vendors\n– Telling QuickBooks which transactions go on the 1099\nReview 1099 info before creating\nAdjusting a 1099 amount to correct the total\nCreating and Sending 1099’s to Contractors\nReporting 1099’s to the IRS with the 1096 Cover Sheet\n\nhttps://quickbooksmadeeasy.com/event/1099s-quickbooks-online/
URL:https://wvnpa.org/event/getting-your-2020-1099s-out-of-quickbooks-online/
LOCATION:WV\, United States
CATEGORIES:Webinar
END:VEVENT
BEGIN:VEVENT
DTSTART;TZID=America/New_York:20210127T140000
DTEND;TZID=America/New_York:20210127T153000
DTSTAMP:20260423T212604
CREATED:20201209T191215Z
LAST-MODIFIED:20201209T203843Z
UID:7782-1611756000-1611761400@wvnpa.org
SUMMARY:Engaging Sponsors and Donors: What’s Changed & What Hasn’t
DESCRIPTION:WVNPA members attend for $35! \nThis fast-paced presentation will center on questions many nonprofits are facing when it comes to engaging supporters\, from corporate sponsors to individual donors. What approaches do we alter during this challenging time and what must we change to keep moving forward? It is a broad arena for sure! We will focus on three components: \n\nLessons Learned Post 9-11: Understand how nonprofits responded when the country’s focus was elsewhere. What worked. What did not. And what insights will help us make the right decisions today when it comes to keeping our current supporters as well as attracting new\, like-minded individuals and companies.\nEvaluating Current Tactics: We will look at what is most likely to happen and why along with a series tough questions for that can be applied to outreach strategies\, campaigns and events. Pepper in case studies from different sized organizations and the right decisions for your organization’s challenges become more clear.\nThe Bigger Picture: In challenging times\, nonprofit volunteers and leaders must come together around a process that organizes the outreach and stewardship of individual donors\, corporate sponsors\, volunteers and influencers. Walk through one model that works\, even when folks are social distancing.\n\nExamples and content will draw from various sized organizations in various sized markets. So\, no one will be left out of the conversation. And board members are strongly encouraged to attend! \nAttendees who would like to connect with Parker before the session will be invited to do so via an optional short survey that will be sent in the registration confirmation email. She reads each one and will respond! And while there will be time for questions and answers\, those interested in more detailed responses will have the opportunity to sign up for a 15-minute private Q & A session with her during Call In Days following the webinar. For added impact\, invite a board member to join you at the session. (Limited space available.) \nThe logistics: \n\nWebinar Date: Wednesday\, January 27\, 2021\nWebinar Time (Eastern Time Zone): 2:00-3:15pm ET\nRegistration Fee:\n\nMembers of the Partner State Association: $35 (including WVNPA Members!)\nWest Virginia Nonprofit Association members receive a discount when placing their order. Email amanda@dev.wvnpa.org for the discount code.\nPotential members of the Partner State Association: $55\n\n\nOther notes: This is a live webinar and will NOT be recorded.\n\nAbout the presenter: \nThe workshop is presented by Parker Harrington\, founder\, and owner of Sponsorship Plus\, a national firm dedicated to helping nonprofits fulfill their mission and positively impact their communities. Parker is known for ethical approaches to galvanize sponsors and donors\, engage deeply committed volunteers and inspire influencers to act. She enjoys building and leading diverse teams of staff and board and is appreciated for her high energy\, knowledge\, and generosity in sharing her expertise.\n(WVNPA members may remember Parker if you attended the 2020 virtual Leadership Summit.)
URL:https://wvnpa.org/event/engaging-sponsors-and-donors-whats-changed-what-hasnt/
LOCATION:WV\, United States
CATEGORIES:Webinar
ATTACH;FMTTYPE=image/png:https://wvnpa.org/content/uploads/ky-1.png
END:VEVENT
BEGIN:VEVENT
DTSTART;TZID=America/New_York:20210128T080000
DTEND;TZID=America/New_York:20210601T170000
DTSTAMP:20260423T212604
CREATED:20210107T155217Z
LAST-MODIFIED:20210107T155217Z
UID:7827-1611820800-1622566800@wvnpa.org
SUMMARY:Well Works: Wellness Coordinator Training Series - Nonprofits LEAD
DESCRIPTION:Welcome to the workplace wellness program designed to help your nonprofit create a culture of wellness and to empower and equip a wellness champion to coordinate wellness activities in your organization. \nThis cohort program is brought to you by Nonprofits LEAD at Marietta College and sponsored by the United Way Alliance of the Mid-Ohio Valley. \nWe have joined forces with the team at Nonprofit Wellness and Ethos Leadership Group to bring you evidence based curriculum on wellness\, organizational culture and leadership. Wellness Coordinators will receive ongoing coaching during the program. \nWorkplace Wellness Coordinators that complete the program will receive a certificate of completion. \nThe cost for each organization to participate is $499 (discount for WVNPA Members – contact Amy at ace003@marietta.edu). This registration fee includes:\n-Attendance at all 6 sessions for your chosen workplace wellness coordinator\n-Attendance at all the 6 wellness activities for your whole team\n-Access to the video library created by this program\n-A network of like-minded peers working as wellness coordinators in their own organizations\n-Resources for your team to continue its wellness journey \nThe workshops and coaching sessions will take place via Zoom. The Zoom meeting link(s) will be sent to registered participants before the first meeting. \nWorkshop dates are:\nJanuary 28th\, 2021\nFebruary 16th\nMarch 16th\nApril 22nd\nMay 13th\nJune 1st\nWellness Coordinators should reserve the whole day on those 6 dates\, as there will be a morning and afternoon session.\nTeam members will only attend an afternoon wellness session that is 20-45 minutes. \nDeadline for Registration is January 21st\, 2021. \nPlease contact Amy at ace003@marietta.edu with any questions. \nWant a flyer with more information?  Click here \nReady to choose a workplace wellness coordinator and get them registered? Click here
URL:https://wvnpa.org/event/well-works-wellness-coordinator-training-series-nonprofits-lead/
LOCATION:WV\, United States
CATEGORIES:Webinar
ATTACH;FMTTYPE=image/png:https://wvnpa.org/content/uploads/unnamed-7.png
ORGANIZER;CN="Nonprofits LEAD":MAILTO:nonprofitslead@marietta.edu
END:VEVENT
END:VCALENDAR