BEGIN:VCALENDAR
VERSION:2.0
PRODID:-//Serving Nonprofits. Strengthening West Virginia - ECPv6.15.14//NONSGML v1.0//EN
CALSCALE:GREGORIAN
METHOD:PUBLISH
X-WR-CALNAME:Serving Nonprofits. Strengthening West Virginia
X-ORIGINAL-URL:https://wvnpa.org
X-WR-CALDESC:Events for Serving Nonprofits. Strengthening West Virginia
REFRESH-INTERVAL;VALUE=DURATION:PT1H
X-Robots-Tag:noindex
X-PUBLISHED-TTL:PT1H
BEGIN:VTIMEZONE
TZID:America/New_York
BEGIN:DAYLIGHT
TZOFFSETFROM:-0500
TZOFFSETTO:-0400
TZNAME:EDT
DTSTART:20200308T070000
END:DAYLIGHT
BEGIN:STANDARD
TZOFFSETFROM:-0400
TZOFFSETTO:-0500
TZNAME:EST
DTSTART:20201101T060000
END:STANDARD
BEGIN:DAYLIGHT
TZOFFSETFROM:-0500
TZOFFSETTO:-0400
TZNAME:EDT
DTSTART:20210314T070000
END:DAYLIGHT
BEGIN:STANDARD
TZOFFSETFROM:-0400
TZOFFSETTO:-0500
TZNAME:EST
DTSTART:20211107T060000
END:STANDARD
BEGIN:DAYLIGHT
TZOFFSETFROM:-0500
TZOFFSETTO:-0400
TZNAME:EDT
DTSTART:20220313T070000
END:DAYLIGHT
BEGIN:STANDARD
TZOFFSETFROM:-0400
TZOFFSETTO:-0500
TZNAME:EST
DTSTART:20221106T060000
END:STANDARD
END:VTIMEZONE
BEGIN:VEVENT
DTSTART;TZID=America/New_York:20210128T080000
DTEND;TZID=America/New_York:20210601T170000
DTSTAMP:20260423T224056
CREATED:20210107T155217Z
LAST-MODIFIED:20210107T155217Z
UID:7827-1611820800-1622566800@wvnpa.org
SUMMARY:Well Works: Wellness Coordinator Training Series - Nonprofits LEAD
DESCRIPTION:Welcome to the workplace wellness program designed to help your nonprofit create a culture of wellness and to empower and equip a wellness champion to coordinate wellness activities in your organization. \nThis cohort program is brought to you by Nonprofits LEAD at Marietta College and sponsored by the United Way Alliance of the Mid-Ohio Valley. \nWe have joined forces with the team at Nonprofit Wellness and Ethos Leadership Group to bring you evidence based curriculum on wellness\, organizational culture and leadership. Wellness Coordinators will receive ongoing coaching during the program. \nWorkplace Wellness Coordinators that complete the program will receive a certificate of completion. \nThe cost for each organization to participate is $499 (discount for WVNPA Members – contact Amy at ace003@marietta.edu). This registration fee includes:\n-Attendance at all 6 sessions for your chosen workplace wellness coordinator\n-Attendance at all the 6 wellness activities for your whole team\n-Access to the video library created by this program\n-A network of like-minded peers working as wellness coordinators in their own organizations\n-Resources for your team to continue its wellness journey \nThe workshops and coaching sessions will take place via Zoom. The Zoom meeting link(s) will be sent to registered participants before the first meeting. \nWorkshop dates are:\nJanuary 28th\, 2021\nFebruary 16th\nMarch 16th\nApril 22nd\nMay 13th\nJune 1st\nWellness Coordinators should reserve the whole day on those 6 dates\, as there will be a morning and afternoon session.\nTeam members will only attend an afternoon wellness session that is 20-45 minutes. \nDeadline for Registration is January 21st\, 2021. \nPlease contact Amy at ace003@marietta.edu with any questions. \nWant a flyer with more information?  Click here \nReady to choose a workplace wellness coordinator and get them registered? Click here
URL:https://wvnpa.org/event/well-works-wellness-coordinator-training-series-nonprofits-lead/
LOCATION:WV\, United States
CATEGORIES:Webinar
ATTACH;FMTTYPE=image/png:https://wvnpa.org/content/uploads/unnamed-7.png
ORGANIZER;CN="Nonprofits LEAD":MAILTO:nonprofitslead@marietta.edu
END:VEVENT
BEGIN:VEVENT
DTSTART;TZID=America/New_York:20210203T160000
DTEND;TZID=America/New_York:20210203T170000
DTSTAMP:20260423T224056
CREATED:20210127T210503Z
LAST-MODIFIED:20210202T142125Z
UID:7952-1612368000-1612371600@wvnpa.org
SUMMARY:Neighborhood Investment Program Policy Briefing
DESCRIPTION:Established in 1996\, the Neighborhood Investment Program (NIP) is set to expire on July 1\, 2021.  This program reaches nearly 200 nonprofits statewide and helps to leverage over $6 million annually in charitable donations.   The WVNPA\, Philanthropy West Virginia\, and other partners are asking the legislature to renew and expand the NIP.  This renewal is more important than ever as the nonprofit sector works to recover from the COVID-19 pandemic.  Read more about the NIP on the WVNPA website! \nJoin us for a joint webinar on February 3rd from 4-5 PM to learn more about the issue and how you can help support the NIP renewal.  \nEmail hilaria@dev.wvnpa.org to register. \nSee how the Wade Center was able to use the NIP Gifts during the Pandemic: \nNIP gifts enabled the Wade Center to keep its doors open during a change in administration while schools adjusted to the COVID-19 pandemic. While the elementary school children who attend our after-school program were at home\, the Wade Center staff implemented arrival\, classroom and departure procedures to ensure social distancing according to state guidelines. A grant enabled us to purchase acrylic table dividers for the classroom\, and we were prepared to welcome our students to a safe learning environment. We also doubled the size of our computer lab so that when schools go all-online or virtual\, we open the Wade Center’s computer lab from 9 am to 1 pm for any Mercer County students who lack internet access at home (over 30% of Bluefield households) by appointment. On those days\, we serve snacks and lunch instead of snacks and dinner. The students shared their report cards with us\, and over 92% made the honor roll. We believe that is testament to the work we’re doing at the Wade Center\, and the NIP funds enabled us to get back up and running.
URL:https://wvnpa.org/event/neighborhood-investment-program-policy-briefing/
LOCATION:Webinar
CATEGORIES:Webinar
ATTACH;FMTTYPE=image/png:https://wvnpa.org/content/uploads/Neighborhood-Investment-Program-Renewal-Virtual-Briefing-1.png
END:VEVENT
BEGIN:VEVENT
DTSTART;TZID=America/New_York:20210204T160000
DTEND;TZID=America/New_York:20210225T170000
DTSTAMP:20260423T224056
CREATED:20201208T215151Z
LAST-MODIFIED:20201209T191248Z
UID:7760-1612454400-1614272400@wvnpa.org
SUMMARY:THE ROLE OF THE BOARD CHAIR
DESCRIPTION:$80 Members of the WVNPA! \nFour 60-minute webinars\, Thursdays\, February 4\, 11\, 18\, & 25\, 2021 \nWhether you’re just stepping into this leadership role or are a seasoned board leader\, this training will help you be more effective in your role. You’ll learn how to bring your best leaderful self to the board chair role\, artfully facilitate meetings that net results\, and improve the leadership work of the board as a whole. \nLeading a group of governance volunteers can be challenging as well as rewarding. Serving as the chair of the board is not a role for the uninspired and undecided. In this course\, participants will learn about the chair’s responsibility in strengthening and improving the leadership work of the board as a whole. \nThis course is a great primer for new board chairs and an excellent refresher for more seasoned board members! Whether you’re a current chair\, chair-elect\, or head up a committee\, this workshop covers leadership skills every board member needs. Topics include: leadership characteristics of effective board leaders\, key relationships in and out of the board room\, your leadership legacy\, facilitating meetings that matter\, and ways to engage individual board members. \nAt the end\, you’ll have tips and tools to help you start your term with confidence and enthusiasm! \nLearning Outcomes: \nYou will leave with: \n\nA better understanding of the board chair’s responsibility in strengthening the work of the board as a whole.\nStrategies that can help you lead more effectively as a board chair.\nWays to more effectively structure board meetings and engage individual board members at meetings.\n\nWho Should Attend: Board Members\, incoming Board Chairs\, other committee chairs\, and Executive Directors are encouraged to attend \nSessions take place Thursdays from 12:00pm to 1:00pm Pacific Time (4:00 pm EST). \nCOURSE OUTLINE: \nPart 1: What Kind of a Leader are You?\nThursday\, February 4\, 2021 – 12:00pm – 1:00pm PST  \n\nThe Changing Landscape of Nonprofit Leadership – What’s Important Now\nCharacteristics of Great Board Leaders –How do You Measure Up?\nYour North Star – What Will Your Legacy Be?\n\n Part 2: What’s Your Job as Board Chair?\nThursday\, February 11\, 2021 – 12:00pm – 1:00pm PST \n\nCommon Mistakes and Frustrations\nThe Do’s and Don’t’s of Effective Chairmanship\nHow to Make the Most of Key Relationships\, including the Board Chair – ED partnership\n\nPart 3: Meetings that Matter\nThursday\, February 18\, 2021 – 12:00pm – 1:00pm PST \n\nThe Bone structure: A Masterful Agenda\, Meeting Mechanics\, Strategic Information\, Ways to Evaluate Meetings\nShaping Powerful Questions that generate great discussion\n\n Part 4: Presiding vs Facilitating \nThursday\, February 25\, 2021 – 12:00pm – 1:00pm PST \n\nHow to Develop Facilitative Leadership\nCommunication Tips for Effective Listeners\nThe people side of things – managing meeting dynamics and conflict\n\nAll sessions will be recorded and the recording will be available to all registered participants. Participants who are unable to attend one or more of the sessions will still have access to all course materials. \nPrice: $160 (WVNPA Members pay $80)\nWest Virginia Nonprofit Association members receive 50% off when placing their order.\nEmail amanda@dev.wvnpa.org for the discount code.
URL:https://wvnpa.org/event/the-role-of-the-board-chair/
LOCATION:WV\, United States
CATEGORIES:Webinar
ATTACH;FMTTYPE=image/png:https://wvnpa.org/content/uploads/board-chair.png
END:VEVENT
BEGIN:VEVENT
DTSTART;TZID=America/New_York:20210218T100000
DTEND;TZID=America/New_York:20210218T113000
DTSTAMP:20260423T224056
CREATED:20210204T180841Z
LAST-MODIFIED:20210204T180841Z
UID:8043-1613642400-1613647800@wvnpa.org
SUMMARY:Formal Technology Planning: What it is and How it Helps - Nonprofits LEAD
DESCRIPTION:Overwhelmed by your organization’s growing technology requirements?  Concerned about your ability to meet your needs and make good decisions?  The process can be mind boggling\, but you can implement a healthy and dynamic process to plan for technology that will meet your needs.  In this session\, we’ll talk tech planning and give you a process for getting started and managing the process. \n  \nPrice: $25 (WVNPA Members save $5\, email hilaria@dev.wvnpa.org for details!) \nREGISTER HERE   by February 16th \nEmail Amy Elliott with any questions. \nABOUT THE SPEAKER\nCindy Leonard has devoted over 20 years working in and with nonprofit organizations\, and has served on numerous boards and committees\, in various volunteer capacities\, and as a consultant\, a trainer\, an executive director\, a program manger and an IT director.  Find her online at www.cindyleonardconsulting.com. \n 
URL:https://wvnpa.org/event/formal-technology-planning-what-it-is-and-how-it-helps-nonprofits-lead/
LOCATION:Webinar
CATEGORIES:Webinar
ATTACH;FMTTYPE=image/png:https://wvnpa.org/content/uploads/Formal-Tech-Planning-2_18.png
END:VEVENT
BEGIN:VEVENT
DTSTART;TZID=America/New_York:20210224T190000
DTEND;TZID=America/New_York:20210616T203000
DTSTAMP:20260423T224056
CREATED:20210107T160320Z
LAST-MODIFIED:20210203T165007Z
UID:7831-1614193200-1623875400@wvnpa.org
SUMMARY:Strategic Planning in Nonprofits Online Cohort Series - Washington Nonprofits
DESCRIPTION:COURSE DESCRIPTION \nFive 90-minute webinars on Wednesday\, February 24\, March 17\, April 14\, May 12\, & June 16\, 2021\, 4:00PM-5:30PM (Pacific Time) \n COST\n(Contact Hilaria at hilaria@dev.wvnpa.org for your WVNPA Member Discount Code)\n \nOrganizations – $300 Members of State Nonprofit Associations / $500 Not-yet-members \n*Register with one person’s info now. Send us up to 5 team members’ info later. \nIndividuals – $150 Members of State Nonprofit Associations / $300 Not-yet-members \nLink: https://washingtonnonprofits.secure.nonprofitsoapbox.com/2021-02-24-spin \nSupplementary information form: https://www.tfaforms.com/4874450 \nIs strategy development on your radar? Does your nonprofit organization want to engage in meaningful conversations to refresh and realign around your mission\, develop a plan for the future\, and energize those inside and outside the organization? If you answered yes\, and you relish the idea of learning side-by-side with peers in the nonprofit sector\, join us for the Strategic Planning in Nonprofits Virtual Cohort. \nThe strategic planning cohort is designed to guide organizational teams through a strategic planning process from start to finish over a four-month time horizon. The cohort will use resources from Strategic Planning in Nonprofits (SPiN)\, a toolkit to help nonprofits successfully complete strategic planning and will also include customized resources and consultations to right-size a process and plan for your organization. The course will include training on strategic planning elements and on-going peer learning and support in small breakout groups. SPiN facilitators will be available to answer questions in the large group learning space\, small breakout groups\, and during office hours. \nBENEFITS OF THE VIRTUAL SPIN COHORT \n\nGet the support you need to create a quality strategic plan for your nonprofit.\nSupport and peer accountability for a team of people from your organization to learn about and take action to create a strategic plan\nKey concepts and practical tools presented in real time to guide you through the process\nPeer learning and feedback at key points\nExpert facilitators and assistance available as needed\nBy June 2021\, you will have a completed strategic plan!\n\nWHO SHOULD ATTEND \nBoard Members\, Executive Directors\, and other nonprofit staff working with boards. \nTo get the most out of the course\, we recommend participating organizations do the following: \n\nCommit 2 to 3 board and/or staff members to attend each of the five sessions and be prepared to complete practical homework assignments between sessions (drafting various pieces of your plan)\nHold regular board meetings (preferably monthly) that provide time and space for strategic planning conversations\nBe an existing 501(c)3 or nonprofit corporation registered with the state\n\nCOURSE OUTLINE \nPart 1: Getting Started with Strategic Planning \nWednesday\, February 24\, 2021 | 4:00pm-5:30pm (Pacific Time) \n\nOverview of SPiN\nPhase 1 – Prepare\nPhase 2 – Listen\n\nPart 2: (Working Session) Elements of Knowing Thyself \nWednesday\, March 17\, 2021 | 4:00pm-5:30pm (Pacific Time) \n\nProgress check\nPhase 2 – Listen\n\nPart 3: Your Organizational North Star \nWednesday\, April 14\, 2021 | 4:00pm-5:30pm Pacific Time \n\nProgress check\nPhase 3 – Envision\nPhase 4 – Plan\n\nPart 4: (Office Hours) Putting the Pieces Together \nWednesday\, May 12\, 2021 | 4:00pm-5:30pm Pacific Time \nPart 5: Making it Stick \nWednesday\, June 16\, 2021 | 4:00pm-5:30pm Pacific Time \n\nPhase 5 – Execute\nPhase 6 – Evaluate\nCelebrate\n\n*Note: For a successful strategic planning process\, it is recommended that you build in time for staff and board meetings. It is especially critical to schedule a longer planning session with your board and key staff to provide input on mission\, vision\, and strategic priorities sometime between our 3rd and 5th sessions.\n \nABOUT THE PRESENTERS \nKim Rakow Bernier\, M.P.A. is a social purpose consultant\, facilitator and leadership coach who partners with leaders and organizations to bolster their capacity to align people\, purpose and planning for impact and transformation. She is a nonprofit practitioner and educator with over twenty years of experience and leadership in building the capacity of leaders and organizations. Her specialties include strategy development and planning\, board development\, and leadership transition. She brings a strength’s-based\, collaborative approach to her work that centers on building capacity within organizations and the individuals and teams that give them life. Kim is committed to creating inclusive and equitable spaces and systems. Her early days as a Peace Corps volunteer shaped her still evolving passion and accountability to locally owned\, and culturally relevant community development and leadership. \nKim has a Master of Public Administration degree and a Certificate in International Development Policy and Management from the Evans School of Public Affairs. She is also a certified professional leadership coach. \nSandra was born and raised in Nairobi\, Kenya and immigrated to the United States when she was a teenager. She has spent over 10 years working in nonprofits\, serving in communications\, farming\, youth advocacy and education\, human rights observation\, community organizing\, and nonprofit management. Sandra earned her BA in Business Administration from Seattle University.
URL:https://wvnpa.org/event/strategic-planning-in-nonprofits-online-cohort-series-washington-nonprofits/
LOCATION:WV\, United States
CATEGORIES:Webinar
ATTACH;FMTTYPE=image/jpeg:https://wvnpa.org/content/uploads/unnamed-2.jpg
END:VEVENT
END:VCALENDAR