BEGIN:VCALENDAR
VERSION:2.0
PRODID:-//Serving Nonprofits. Strengthening West Virginia - ECPv6.15.14//NONSGML v1.0//EN
CALSCALE:GREGORIAN
METHOD:PUBLISH
X-WR-CALNAME:Serving Nonprofits. Strengthening West Virginia
X-ORIGINAL-URL:https://wvnpa.org
X-WR-CALDESC:Events for Serving Nonprofits. Strengthening West Virginia
REFRESH-INTERVAL;VALUE=DURATION:PT1H
X-Robots-Tag:noindex
X-PUBLISHED-TTL:PT1H
BEGIN:VTIMEZONE
TZID:America/New_York
BEGIN:DAYLIGHT
TZOFFSETFROM:-0500
TZOFFSETTO:-0400
TZNAME:EDT
DTSTART:20200308T070000
END:DAYLIGHT
BEGIN:STANDARD
TZOFFSETFROM:-0400
TZOFFSETTO:-0500
TZNAME:EST
DTSTART:20201101T060000
END:STANDARD
BEGIN:DAYLIGHT
TZOFFSETFROM:-0500
TZOFFSETTO:-0400
TZNAME:EDT
DTSTART:20210314T070000
END:DAYLIGHT
BEGIN:STANDARD
TZOFFSETFROM:-0400
TZOFFSETTO:-0500
TZNAME:EST
DTSTART:20211107T060000
END:STANDARD
BEGIN:DAYLIGHT
TZOFFSETFROM:-0500
TZOFFSETTO:-0400
TZNAME:EDT
DTSTART:20220313T070000
END:DAYLIGHT
BEGIN:STANDARD
TZOFFSETFROM:-0400
TZOFFSETTO:-0500
TZNAME:EST
DTSTART:20221106T060000
END:STANDARD
END:VTIMEZONE
BEGIN:VEVENT
DTSTART;TZID=America/New_York:20210128T080000
DTEND;TZID=America/New_York:20210601T170000
DTSTAMP:20260424T030654
CREATED:20210107T155217Z
LAST-MODIFIED:20210107T155217Z
UID:7827-1611820800-1622566800@wvnpa.org
SUMMARY:Well Works: Wellness Coordinator Training Series - Nonprofits LEAD
DESCRIPTION:Welcome to the workplace wellness program designed to help your nonprofit create a culture of wellness and to empower and equip a wellness champion to coordinate wellness activities in your organization. \nThis cohort program is brought to you by Nonprofits LEAD at Marietta College and sponsored by the United Way Alliance of the Mid-Ohio Valley. \nWe have joined forces with the team at Nonprofit Wellness and Ethos Leadership Group to bring you evidence based curriculum on wellness\, organizational culture and leadership. Wellness Coordinators will receive ongoing coaching during the program. \nWorkplace Wellness Coordinators that complete the program will receive a certificate of completion. \nThe cost for each organization to participate is $499 (discount for WVNPA Members – contact Amy at ace003@marietta.edu). This registration fee includes:\n-Attendance at all 6 sessions for your chosen workplace wellness coordinator\n-Attendance at all the 6 wellness activities for your whole team\n-Access to the video library created by this program\n-A network of like-minded peers working as wellness coordinators in their own organizations\n-Resources for your team to continue its wellness journey \nThe workshops and coaching sessions will take place via Zoom. The Zoom meeting link(s) will be sent to registered participants before the first meeting. \nWorkshop dates are:\nJanuary 28th\, 2021\nFebruary 16th\nMarch 16th\nApril 22nd\nMay 13th\nJune 1st\nWellness Coordinators should reserve the whole day on those 6 dates\, as there will be a morning and afternoon session.\nTeam members will only attend an afternoon wellness session that is 20-45 minutes. \nDeadline for Registration is January 21st\, 2021. \nPlease contact Amy at ace003@marietta.edu with any questions. \nWant a flyer with more information?  Click here \nReady to choose a workplace wellness coordinator and get them registered? Click here
URL:https://wvnpa.org/event/well-works-wellness-coordinator-training-series-nonprofits-lead/
LOCATION:WV\, United States
CATEGORIES:Webinar
ATTACH;FMTTYPE=image/png:https://wvnpa.org/content/uploads/unnamed-7.png
ORGANIZER;CN="Nonprofits LEAD":MAILTO:nonprofitslead@marietta.edu
END:VEVENT
BEGIN:VEVENT
DTSTART;TZID=America/New_York:20210224T190000
DTEND;TZID=America/New_York:20210616T203000
DTSTAMP:20260424T030654
CREATED:20210107T160320Z
LAST-MODIFIED:20210203T165007Z
UID:7831-1614193200-1623875400@wvnpa.org
SUMMARY:Strategic Planning in Nonprofits Online Cohort Series - Washington Nonprofits
DESCRIPTION:COURSE DESCRIPTION \nFive 90-minute webinars on Wednesday\, February 24\, March 17\, April 14\, May 12\, & June 16\, 2021\, 4:00PM-5:30PM (Pacific Time) \n COST\n(Contact Hilaria at hilaria@dev.wvnpa.org for your WVNPA Member Discount Code)\n \nOrganizations – $300 Members of State Nonprofit Associations / $500 Not-yet-members \n*Register with one person’s info now. Send us up to 5 team members’ info later. \nIndividuals – $150 Members of State Nonprofit Associations / $300 Not-yet-members \nLink: https://washingtonnonprofits.secure.nonprofitsoapbox.com/2021-02-24-spin \nSupplementary information form: https://www.tfaforms.com/4874450 \nIs strategy development on your radar? Does your nonprofit organization want to engage in meaningful conversations to refresh and realign around your mission\, develop a plan for the future\, and energize those inside and outside the organization? If you answered yes\, and you relish the idea of learning side-by-side with peers in the nonprofit sector\, join us for the Strategic Planning in Nonprofits Virtual Cohort. \nThe strategic planning cohort is designed to guide organizational teams through a strategic planning process from start to finish over a four-month time horizon. The cohort will use resources from Strategic Planning in Nonprofits (SPiN)\, a toolkit to help nonprofits successfully complete strategic planning and will also include customized resources and consultations to right-size a process and plan for your organization. The course will include training on strategic planning elements and on-going peer learning and support in small breakout groups. SPiN facilitators will be available to answer questions in the large group learning space\, small breakout groups\, and during office hours. \nBENEFITS OF THE VIRTUAL SPIN COHORT \n\nGet the support you need to create a quality strategic plan for your nonprofit.\nSupport and peer accountability for a team of people from your organization to learn about and take action to create a strategic plan\nKey concepts and practical tools presented in real time to guide you through the process\nPeer learning and feedback at key points\nExpert facilitators and assistance available as needed\nBy June 2021\, you will have a completed strategic plan!\n\nWHO SHOULD ATTEND \nBoard Members\, Executive Directors\, and other nonprofit staff working with boards. \nTo get the most out of the course\, we recommend participating organizations do the following: \n\nCommit 2 to 3 board and/or staff members to attend each of the five sessions and be prepared to complete practical homework assignments between sessions (drafting various pieces of your plan)\nHold regular board meetings (preferably monthly) that provide time and space for strategic planning conversations\nBe an existing 501(c)3 or nonprofit corporation registered with the state\n\nCOURSE OUTLINE \nPart 1: Getting Started with Strategic Planning \nWednesday\, February 24\, 2021 | 4:00pm-5:30pm (Pacific Time) \n\nOverview of SPiN\nPhase 1 – Prepare\nPhase 2 – Listen\n\nPart 2: (Working Session) Elements of Knowing Thyself \nWednesday\, March 17\, 2021 | 4:00pm-5:30pm (Pacific Time) \n\nProgress check\nPhase 2 – Listen\n\nPart 3: Your Organizational North Star \nWednesday\, April 14\, 2021 | 4:00pm-5:30pm Pacific Time \n\nProgress check\nPhase 3 – Envision\nPhase 4 – Plan\n\nPart 4: (Office Hours) Putting the Pieces Together \nWednesday\, May 12\, 2021 | 4:00pm-5:30pm Pacific Time \nPart 5: Making it Stick \nWednesday\, June 16\, 2021 | 4:00pm-5:30pm Pacific Time \n\nPhase 5 – Execute\nPhase 6 – Evaluate\nCelebrate\n\n*Note: For a successful strategic planning process\, it is recommended that you build in time for staff and board meetings. It is especially critical to schedule a longer planning session with your board and key staff to provide input on mission\, vision\, and strategic priorities sometime between our 3rd and 5th sessions.\n \nABOUT THE PRESENTERS \nKim Rakow Bernier\, M.P.A. is a social purpose consultant\, facilitator and leadership coach who partners with leaders and organizations to bolster their capacity to align people\, purpose and planning for impact and transformation. She is a nonprofit practitioner and educator with over twenty years of experience and leadership in building the capacity of leaders and organizations. Her specialties include strategy development and planning\, board development\, and leadership transition. She brings a strength’s-based\, collaborative approach to her work that centers on building capacity within organizations and the individuals and teams that give them life. Kim is committed to creating inclusive and equitable spaces and systems. Her early days as a Peace Corps volunteer shaped her still evolving passion and accountability to locally owned\, and culturally relevant community development and leadership. \nKim has a Master of Public Administration degree and a Certificate in International Development Policy and Management from the Evans School of Public Affairs. She is also a certified professional leadership coach. \nSandra was born and raised in Nairobi\, Kenya and immigrated to the United States when she was a teenager. She has spent over 10 years working in nonprofits\, serving in communications\, farming\, youth advocacy and education\, human rights observation\, community organizing\, and nonprofit management. Sandra earned her BA in Business Administration from Seattle University.
URL:https://wvnpa.org/event/strategic-planning-in-nonprofits-online-cohort-series-washington-nonprofits/
LOCATION:WV\, United States
CATEGORIES:Webinar
ATTACH;FMTTYPE=image/jpeg:https://wvnpa.org/content/uploads/unnamed-2.jpg
END:VEVENT
BEGIN:VEVENT
DTSTART;TZID=America/New_York:20210506T130000
DTEND;TZID=America/New_York:20210520T144500
DTSTAMP:20260424T030654
CREATED:20210224T184134Z
LAST-MODIFIED:20210224T184314Z
UID:8177-1620306000-1621521900@wvnpa.org
SUMMARY:Digital Fundraising in 2021
DESCRIPTION:Thursdays\, May 6\, 13\, 20\, $150 for Nonmembers and $120 for Members (email hilaria@dev.wvnpa.org for code!) \nREGISTER NOW! \nIn this course\, you will learn best practices for using social media\, email\, and additional communication tools to conduct digital fundraising for your nonprofit.  \nThrough participation in this course\, you will:  \n\nLearn the key elements of creating an online donation form.\nLearn how to incorporate fundraising into your communications calendar.\nLearn email and social media fundraising best practices.\nUnderstand how to analyze and utilize metrics from your campaigns.\nDiscover software to support your fundraising efforts.
URL:https://wvnpa.org/event/digital-fundraising-in-2021/
LOCATION:Webinar
CATEGORIES:Webinar
ATTACH;FMTTYPE=image/png:https://wvnpa.org/content/uploads/techimpact-logo.png
END:VEVENT
BEGIN:VEVENT
DTSTART;TZID=America/New_York:20210518T093000
DTEND;TZID=America/New_York:20210518T113000
DTSTAMP:20260424T030654
CREATED:20210512T190103Z
LAST-MODIFIED:20210512T192531Z
UID:8572-1621330200-1621337400@wvnpa.org
SUMMARY:Introduction to Foundation Directory Online
DESCRIPTION:This webinar is offered by the Community Foundation for the Ohio Valley. \nTuesday\, May 18\, 2021\, 9:30 – 11:30 AM \nREGISTER NOW\nPresented in partnership with CANDID. \nIntroduction to Foundation Directory Online is hosted by the Community Foundation for the Ohio Valley. Instructor: Candid Contact susan.shiroma@candid.org with questions. This training session requires pre-registration on zoom.
URL:https://wvnpa.org/event/introduction-to-foundation-directory-online/
LOCATION:Webinar
CATEGORIES:Webinar
ATTACH;FMTTYPE=image/png:https://wvnpa.org/content/uploads/CFOV.png
END:VEVENT
BEGIN:VEVENT
DTSTART;TZID=America/New_York:20210525T140000
DTEND;TZID=America/New_York:20210527T160000
DTSTAMP:20260424T030654
CREATED:20210224T170510Z
LAST-MODIFIED:20210224T180328Z
UID:8164-1621951200-1622131200@wvnpa.org
SUMMARY:Quickbooks Made Easy for Nonprofits May 2021 Fundamentals Webinar: Desktop
DESCRIPTION:This three day series focuses on QuickBooks materials – all nonprofit-focused! \nThis 3 Part Training Webinar Series for QuickBooks DESKTOP will be held on May 25th through 27th and will feature Gregg Bossen\, CPA\, the founder of Quickbooks Made Easy for Nonprofits! \nTuesday\, May 25th\, 2:00 p.m. – 4:00 p.m. EST\nDay 1 will cover the basics of setting up and entering transactions specifically for Nonprofits\, an overview of the software updates included in QuickBooks 2021 as well as advanced topics* including: \n\nWelcome to QuickBooks – The different choices and which version is right for you\nWhat’s new in version 2021 that you may need\nGetting used to the screens and navigating around\nA lesson in accounting QuickBooks style!\nSetting up the correct Accounts\nEntering  Your Programs\nAdding Your Annual Budget\nCutting and Pasting from Excel into Quickbooks\nEntering Your Donors\, Members\, or Students\n\nWednesday\, May 26th\, 2:00 p.m. – 4:00 p.m. EST\nDay 2 will cover advanced material to really help you do some helpful and amazing things*: \n\nEntering Your Income – Two Methods\nEntering Donations and Grants\nEntering Membership Dues and Tuition\nEntering Program Service Revenue\nHow to get the most out of Items\nEntering and Paying Bills\nSpreading Costs to Programs/Grants\nEssential Reports for the Board/Auditor\nAttaching Scan Documents for Free\n\nThursday\, May 27th\, 2:00 p.m. – 4:00 p.m. EST\nDay 3 will cover the following*: \n\nEntering Credit Card activity\nTracking Pledges\nTracking Restricted Grants\nTracking Special Fundraising Events\nPrinting personalized Donor Thank-You Letters directly from Quickbooks\nTwo Ways to get year-end Donor-Acknowledgements\nRecording In-Kind Contributions\nAdvancing method of Auto-Allocating Expenses to Programs/Grants\nAnd More!\n\n*Topics are subject to change. \nPrice: $115 Per Day or $249 for all three days! (WVNPA Members save 50% on all three days or $35 for one day\, just email hilaria@dev.wvnpa.org for your discount code.)\nEarn 6.0 hours of CPE credit! (2.0 each day)\nAll Participants will receive log-in information prior to the webinar. \nClick HERE to register and review the agenda!\n~This training is for the Desktop version of Quickbooks~
URL:https://wvnpa.org/event/quickbooks-made-easy-for-nonprofits-may-2021-fundamentals-webinar-desktop/
LOCATION:Webinar
CATEGORIES:Webinar
ATTACH;FMTTYPE=image/png:https://wvnpa.org/content/uploads/QB_MadeEasy_FinalLogo.png
END:VEVENT
END:VCALENDAR