BEGIN:VCALENDAR
VERSION:2.0
PRODID:-//Serving Nonprofits. Strengthening West Virginia - ECPv6.15.14//NONSGML v1.0//EN
CALSCALE:GREGORIAN
METHOD:PUBLISH
X-WR-CALNAME:Serving Nonprofits. Strengthening West Virginia
X-ORIGINAL-URL:https://wvnpa.org
X-WR-CALDESC:Events for Serving Nonprofits. Strengthening West Virginia
REFRESH-INTERVAL;VALUE=DURATION:PT1H
X-Robots-Tag:noindex
X-PUBLISHED-TTL:PT1H
BEGIN:VTIMEZONE
TZID:America/New_York
BEGIN:DAYLIGHT
TZOFFSETFROM:-0500
TZOFFSETTO:-0400
TZNAME:EDT
DTSTART:20200308T070000
END:DAYLIGHT
BEGIN:STANDARD
TZOFFSETFROM:-0400
TZOFFSETTO:-0500
TZNAME:EST
DTSTART:20201101T060000
END:STANDARD
BEGIN:DAYLIGHT
TZOFFSETFROM:-0500
TZOFFSETTO:-0400
TZNAME:EDT
DTSTART:20210314T070000
END:DAYLIGHT
BEGIN:STANDARD
TZOFFSETFROM:-0400
TZOFFSETTO:-0500
TZNAME:EST
DTSTART:20211107T060000
END:STANDARD
BEGIN:DAYLIGHT
TZOFFSETFROM:-0500
TZOFFSETTO:-0400
TZNAME:EDT
DTSTART:20220313T070000
END:DAYLIGHT
BEGIN:STANDARD
TZOFFSETFROM:-0400
TZOFFSETTO:-0500
TZNAME:EST
DTSTART:20221106T060000
END:STANDARD
END:VTIMEZONE
BEGIN:VEVENT
DTSTART;TZID=America/New_York:20210128T080000
DTEND;TZID=America/New_York:20210601T170000
DTSTAMP:20260424T043550
CREATED:20210107T155217Z
LAST-MODIFIED:20210107T155217Z
UID:7827-1611820800-1622566800@wvnpa.org
SUMMARY:Well Works: Wellness Coordinator Training Series - Nonprofits LEAD
DESCRIPTION:Welcome to the workplace wellness program designed to help your nonprofit create a culture of wellness and to empower and equip a wellness champion to coordinate wellness activities in your organization. \nThis cohort program is brought to you by Nonprofits LEAD at Marietta College and sponsored by the United Way Alliance of the Mid-Ohio Valley. \nWe have joined forces with the team at Nonprofit Wellness and Ethos Leadership Group to bring you evidence based curriculum on wellness\, organizational culture and leadership. Wellness Coordinators will receive ongoing coaching during the program. \nWorkplace Wellness Coordinators that complete the program will receive a certificate of completion. \nThe cost for each organization to participate is $499 (discount for WVNPA Members – contact Amy at ace003@marietta.edu). This registration fee includes:\n-Attendance at all 6 sessions for your chosen workplace wellness coordinator\n-Attendance at all the 6 wellness activities for your whole team\n-Access to the video library created by this program\n-A network of like-minded peers working as wellness coordinators in their own organizations\n-Resources for your team to continue its wellness journey \nThe workshops and coaching sessions will take place via Zoom. The Zoom meeting link(s) will be sent to registered participants before the first meeting. \nWorkshop dates are:\nJanuary 28th\, 2021\nFebruary 16th\nMarch 16th\nApril 22nd\nMay 13th\nJune 1st\nWellness Coordinators should reserve the whole day on those 6 dates\, as there will be a morning and afternoon session.\nTeam members will only attend an afternoon wellness session that is 20-45 minutes. \nDeadline for Registration is January 21st\, 2021. \nPlease contact Amy at ace003@marietta.edu with any questions. \nWant a flyer with more information?  Click here \nReady to choose a workplace wellness coordinator and get them registered? Click here
URL:https://wvnpa.org/event/well-works-wellness-coordinator-training-series-nonprofits-lead/
LOCATION:WV\, United States
CATEGORIES:Webinar
ATTACH;FMTTYPE=image/png:https://wvnpa.org/content/uploads/unnamed-7.png
ORGANIZER;CN="Nonprofits LEAD":MAILTO:nonprofitslead@marietta.edu
END:VEVENT
BEGIN:VEVENT
DTSTART;TZID=America/New_York:20210224T190000
DTEND;TZID=America/New_York:20210616T203000
DTSTAMP:20260424T043550
CREATED:20210107T160320Z
LAST-MODIFIED:20210203T165007Z
UID:7831-1614193200-1623875400@wvnpa.org
SUMMARY:Strategic Planning in Nonprofits Online Cohort Series - Washington Nonprofits
DESCRIPTION:COURSE DESCRIPTION \nFive 90-minute webinars on Wednesday\, February 24\, March 17\, April 14\, May 12\, & June 16\, 2021\, 4:00PM-5:30PM (Pacific Time) \n COST\n(Contact Hilaria at hilaria@dev.wvnpa.org for your WVNPA Member Discount Code)\n \nOrganizations – $300 Members of State Nonprofit Associations / $500 Not-yet-members \n*Register with one person’s info now. Send us up to 5 team members’ info later. \nIndividuals – $150 Members of State Nonprofit Associations / $300 Not-yet-members \nLink: https://washingtonnonprofits.secure.nonprofitsoapbox.com/2021-02-24-spin \nSupplementary information form: https://www.tfaforms.com/4874450 \nIs strategy development on your radar? Does your nonprofit organization want to engage in meaningful conversations to refresh and realign around your mission\, develop a plan for the future\, and energize those inside and outside the organization? If you answered yes\, and you relish the idea of learning side-by-side with peers in the nonprofit sector\, join us for the Strategic Planning in Nonprofits Virtual Cohort. \nThe strategic planning cohort is designed to guide organizational teams through a strategic planning process from start to finish over a four-month time horizon. The cohort will use resources from Strategic Planning in Nonprofits (SPiN)\, a toolkit to help nonprofits successfully complete strategic planning and will also include customized resources and consultations to right-size a process and plan for your organization. The course will include training on strategic planning elements and on-going peer learning and support in small breakout groups. SPiN facilitators will be available to answer questions in the large group learning space\, small breakout groups\, and during office hours. \nBENEFITS OF THE VIRTUAL SPIN COHORT \n\nGet the support you need to create a quality strategic plan for your nonprofit.\nSupport and peer accountability for a team of people from your organization to learn about and take action to create a strategic plan\nKey concepts and practical tools presented in real time to guide you through the process\nPeer learning and feedback at key points\nExpert facilitators and assistance available as needed\nBy June 2021\, you will have a completed strategic plan!\n\nWHO SHOULD ATTEND \nBoard Members\, Executive Directors\, and other nonprofit staff working with boards. \nTo get the most out of the course\, we recommend participating organizations do the following: \n\nCommit 2 to 3 board and/or staff members to attend each of the five sessions and be prepared to complete practical homework assignments between sessions (drafting various pieces of your plan)\nHold regular board meetings (preferably monthly) that provide time and space for strategic planning conversations\nBe an existing 501(c)3 or nonprofit corporation registered with the state\n\nCOURSE OUTLINE \nPart 1: Getting Started with Strategic Planning \nWednesday\, February 24\, 2021 | 4:00pm-5:30pm (Pacific Time) \n\nOverview of SPiN\nPhase 1 – Prepare\nPhase 2 – Listen\n\nPart 2: (Working Session) Elements of Knowing Thyself \nWednesday\, March 17\, 2021 | 4:00pm-5:30pm (Pacific Time) \n\nProgress check\nPhase 2 – Listen\n\nPart 3: Your Organizational North Star \nWednesday\, April 14\, 2021 | 4:00pm-5:30pm Pacific Time \n\nProgress check\nPhase 3 – Envision\nPhase 4 – Plan\n\nPart 4: (Office Hours) Putting the Pieces Together \nWednesday\, May 12\, 2021 | 4:00pm-5:30pm Pacific Time \nPart 5: Making it Stick \nWednesday\, June 16\, 2021 | 4:00pm-5:30pm Pacific Time \n\nPhase 5 – Execute\nPhase 6 – Evaluate\nCelebrate\n\n*Note: For a successful strategic planning process\, it is recommended that you build in time for staff and board meetings. It is especially critical to schedule a longer planning session with your board and key staff to provide input on mission\, vision\, and strategic priorities sometime between our 3rd and 5th sessions.\n \nABOUT THE PRESENTERS \nKim Rakow Bernier\, M.P.A. is a social purpose consultant\, facilitator and leadership coach who partners with leaders and organizations to bolster their capacity to align people\, purpose and planning for impact and transformation. She is a nonprofit practitioner and educator with over twenty years of experience and leadership in building the capacity of leaders and organizations. Her specialties include strategy development and planning\, board development\, and leadership transition. She brings a strength’s-based\, collaborative approach to her work that centers on building capacity within organizations and the individuals and teams that give them life. Kim is committed to creating inclusive and equitable spaces and systems. Her early days as a Peace Corps volunteer shaped her still evolving passion and accountability to locally owned\, and culturally relevant community development and leadership. \nKim has a Master of Public Administration degree and a Certificate in International Development Policy and Management from the Evans School of Public Affairs. She is also a certified professional leadership coach. \nSandra was born and raised in Nairobi\, Kenya and immigrated to the United States when she was a teenager. She has spent over 10 years working in nonprofits\, serving in communications\, farming\, youth advocacy and education\, human rights observation\, community organizing\, and nonprofit management. Sandra earned her BA in Business Administration from Seattle University.
URL:https://wvnpa.org/event/strategic-planning-in-nonprofits-online-cohort-series-washington-nonprofits/
LOCATION:WV\, United States
CATEGORIES:Webinar
ATTACH;FMTTYPE=image/jpeg:https://wvnpa.org/content/uploads/unnamed-2.jpg
END:VEVENT
BEGIN:VEVENT
DTSTART;TZID=America/New_York:20210601T140000
DTEND;TZID=America/New_York:20210603T160000
DTSTAMP:20260424T043550
CREATED:20210224T180316Z
LAST-MODIFIED:20210224T180316Z
UID:8168-1622556000-1622736000@wvnpa.org
SUMMARY:QuickBooks Made Easy for Nonprofits June 2021 Fundamentals Webinar: Online
DESCRIPTION:This three day series focuses on QuickBooks materials – all nonprofit-focused! \nThis 3 Part Training Webinar Series for QuickBooks ONLINE will be held on June 1st through 3rd and will feature Gregg Bossen\, CPA\, the founder of Quickbooks Made Easy for Nonprofits! \nTuesday\, June 1st\, 2:00 p.m. – 4:00 p.m. EST\nDay 1 will cover the basics of setting up and entering transactions specifically for Nonprofits\, an overview of the software updates included in QuickBooks 2021 as well as advanced topics* including: \n\nWelcome to QuickBooks – The different choices and which version is right for you\nWhat’s new in version 2021 that you may need\nGetting used to the screens and navigating around\nA lesson in accounting QuickBooks style!\nSetting up the correct Accounts\nEntering  Your Programs\nAdding Your Annual Budget\nCutting and Pasting from Excel into Quickbooks\nEntering Your Donors\, Members\, or Students\n\nWednesday\, June 2nd\, 2:00 p.m. – 4:00 p.m. EST\nDay 2 will cover advanced material to really help you do some helpful and amazing things*: \n\nEntering Your Income – Two Methods\nEntering Donations and Grants\nEntering Membership Dues and Tuition\nEntering Program Service Revenue\nHow to get the most out of Items\nEntering and Paying Bills\nSpreading Costs to Programs/Grants\nEssential Reports for the Board/Auditor\nAttaching Scan Documents for Free\n\nThursday\, June 3rd\, 2:00 p.m. – 4:00 p.m. EST\nDay 3 will cover the following*: \n\nEntering Credit Card activity\nTracking Pledges\nTracking Restricted Grants\nTracking Special Fundraising Events\nPrinting personalized Donor Thank-You Letters directly from Quickbooks\nTwo Ways to get year-end Donor-Acknowledgements\nRecording In-Kind Contributions\nAdvancing method of Auto-Allocating Expenses to Programs/Grants\nAnd More!\n\n*Topics are subject to change. \nPrice: $115 Per Day or $249 for all three days! (WVNPA Members save 50% on all three days or $35 for one day\, just email hilaria@dev.wvnpa.org for your discount code.)\nEarn 6.0 hours of CPE credit! (2.0 each day)\nAll Participants will receive log-in information prior to the webinar. \nClick HERE to register and review the agenda!\n~This training is for the Online version of Quickbooks~
URL:https://wvnpa.org/event/quickbooks-made-easy-for-nonprofits-june-2021-fundamentals-webinar-online/
LOCATION:Webinar
CATEGORIES:Webinar
ATTACH;FMTTYPE=image/png:https://wvnpa.org/content/uploads/QB_MadeEasy_FinalLogo.png
END:VEVENT
BEGIN:VEVENT
DTSTART;TZID=America/New_York:20210603T110000
DTEND;TZID=America/New_York:20210603T123000
DTSTAMP:20260424T043550
CREATED:20210512T184004Z
LAST-MODIFIED:20210512T185225Z
UID:8568-1622718000-1622723400@wvnpa.org
SUMMARY:Partnering for Community Impact: An Overview of TGKVF Opportunities
DESCRIPTION:This webinar is offered by The Greater Kanawha Valley Foundation. \nThursday\, June 3\, 2021\, 11:00 AM – 12:30 PM \nREGISTER NOW\nEver wonder what the Program Department does at The Greater Kanawha Valley Foundation (TGKVF)? It includes competitive grantmaking\, but it’s also so much more! Join this informational webinar to learn about the Foundation’s competitive grant types\, scholarships\, capacity building trainings\, and other tips and tools. You’ll meet TGKVF’s Program Team and hear about the various opportunities we offer. This webinar is for anyone who is new to TGKVF and would like an introduction to our program opportunities\, but also for those who think they know us and would like a refresher.
URL:https://wvnpa.org/event/partnering-for-community-impact-an-overview-of-tgkvf-opportunities/
LOCATION:Webinar
CATEGORIES:Webinar
ATTACH;FMTTYPE=image/jpeg:https://wvnpa.org/content/uploads/GKVF-1.jpg
END:VEVENT
BEGIN:VEVENT
DTSTART;TZID=America/New_York:20210603T130000
DTEND;TZID=America/New_York:20210617T141500
DTSTAMP:20260424T043550
CREATED:20210226T160037Z
LAST-MODIFIED:20210226T160037Z
UID:8201-1622725200-1623939300@wvnpa.org
SUMMARY:Accidental Techie
DESCRIPTION:Thursdays June 3\, 10\, & 17 from 1-2:15 PM (The last 15 minutes of each session is reserved for audience Q&A) \nPrice: $120 with Member Discount Code ($150 full price).  Please email hilaria@dev.wvnpa.org to request the discount code! \nRegister HERE\nAre you the person everyone at your small nonprofit looks to when the printer won’t work or the Wi-Fi is down? \nAre you the one with admin privileges for all your software?  Do you have to carry out basic IT tasks such as run backups and install anti-virus software?  Is IT only a small fraction of your job (but always threatening to take over)? \nLet Tech Impact help you through the bit IT issues many small nonprofits face.  Our three-session course will provide you with the knowledge you need to support your nonprofit. \nBy completing this course\, you will: \n\nFamiliarize yourself with the basics of your organization’s infrastructure.\nLearn the fundamentals of networking and backing up shared files.\nDiscover best practices that will make you a more effective software administrator.\nExplore new software options.\nReview security risks and safety principles.\nDiscuss technology planning and how to help everyone at your organization get what they need from their technology resources.\nLearn how to keep your IT responsibilities from taking over your job.\n\nSession 1: Hardware Infrastructure Basics \nComputers\, printers\, phones\, routers – there are a lot of gadgets that can turn glitchy. This session will cover the basics you need to know about the various pieces of hardware in a typical office and review common troubleshooting techniques to keep them up and running. We’ll also look at what you need to know to network computers\, keep them connected\, and reliably back up files. \nSession 2: Managing Software and Security \nHow do you decide what software to chose when there are hundreds of options each with their own unique features?  And once you’ve chosen a software package\, how do you manage it so that your organization gets what it needs and is protected from security threats?  We’ll answer these questions and more by reviewing frameworks to choose and administer your organization’s software. \nSession 3: The Human Side of Technology \nIT isn’t just IT.  A big part of the job is working directly with people – both to fix small problems and undertake long-term planning.  We’ll help you develop strategies for leading large-scale technology projects and pass on tips from our own in-house IT expert on the best ways to work one-on-one with your colleagues. \nAbout the Instructor: \nMelanie Meyer\, Tech Advisor with Tech Impact works directly with nonprofits to help elevate their technology use to further their mission.  Melanie has a 20-year history working with a nonprofit for the overall strategic direction of technology\, systems and processes\, marketing\, communications\, and event management. \n  \n 
URL:https://wvnpa.org/event/accidental-techie/
LOCATION:Webinar
CATEGORIES:Webinar
ATTACH;FMTTYPE=image/png:https://wvnpa.org/content/uploads/techimpact-logo.png
END:VEVENT
BEGIN:VEVENT
DTSTART;TZID=America/New_York:20210615T090000
DTEND;TZID=America/New_York:20210615T113000
DTSTAMP:20260424T043550
CREATED:20210512T192534Z
LAST-MODIFIED:20210603T205804Z
UID:8575-1623747600-1623756600@wvnpa.org
SUMMARY:Spring 2021 Virtual Keynote - Ann Mei Chang
DESCRIPTION:This webinar is offered by the Nonprofits LEAD. \nTuesday\, June 15\, 2021\, 9:00 – 11:30 AM \nREGISTER NOW\nAgenda: \n9:00 am – 10:00 am Keynote address and Q & A\n10:00 am – 10:15 am Break\n10:15 am – 11:15 am Break-out Room discussion groups*\n11:30 am Wrap-up and Prize Drawing \nDescription: \nAnn Mei Chang is the author of Lean Impact. She was the Chief Innovation Officer at USAID\, Ann Mei served as the first Executive Director of the US Global Development Lab\, engaging the best practices for innovation from Silicon Valley to accelerate the impact and scale of solutions to the world’s most intractable challenges. \nHer book Lean Impact offers bold ideas to reach audacious goals through customer insight\, rapid experimentation and iteration\, and a relentless pursuit of impact. \nSocial change is far more complicated than building a new app. It requires more listening\, more care\, and more stakeholders. To make a lasting difference\, solutions must be embraced by beneficiaries\, address root causes\, and include an engine that can accelerate growth to reach the scale of the needs. \n*The Breakout Room discussion groups will be led by Ohio University Voinovich School of Leadership and Public Affairs Social Enterprise Ecosystem facilitators \nThe first 100 paid in full registrants receive a FREE copy of Lean Impact: How to Innovate for Radically Greater Social Good! Thank you to our book sponsor Parkersburg Area Community Foundation.\nAND\nEach registered organization will be entered into a drawing for a FREE 1/2 hour coaching session with Ann Mei Chang! \nCost:\n1 Person for $55\nWest Virginia Nonprofit Members receive $5 discount\n2 or more from your organization for $40 per person \nEach individual must complete a separate registration. Combined payments may be made via check or credit card. \nDeadline for Registration is June 10th. Registration will be closed after that day. \nPlease contact Amy at ace003@marietta.edu with any issues \nThank you to our sponsors:\nParkersburg Area Community Foundation\nBernard McDonough Foundation\nSLOFLT Consulting\nHuntington Bank\nOhio University Center for Campus and Community Engagement\nAthens County Foundation\nOU Voinovich School Social Enterprise Ecosystem
URL:https://wvnpa.org/event/spring-2021-virtual-keynote-ann-mei-chang/
LOCATION:Webinar
CATEGORIES:Webinar
ATTACH;FMTTYPE=image/jpeg:https://wvnpa.org/content/uploads/NL-2021-Spring-Keynote-scaled.jpg
ORGANIZER;CN="Nonprofits LEAD":MAILTO:nonprofitslead@marietta.edu
END:VEVENT
BEGIN:VEVENT
DTSTART;TZID=America/New_York:20210615T100000
DTEND;TZID=America/New_York:20210616T161500
DTSTAMP:20260424T043550
CREATED:20210603T192356Z
LAST-MODIFIED:20210603T192356Z
UID:8650-1623751200-1623860100@wvnpa.org
SUMMARY:Fundraising Palooza
DESCRIPTION:This series is offered by Nonprofit Association of the Midlands (NAM). \nJune 15th (10:00 AM – 3:00 PM) & 16th (10:00 AM – 4:15 PM)\nRegistration Fees:\nMembers – $150 (email hilaria@dev.wvnpa.org for discount code)\nNonmembers – $300 \nREGISTER NOW\n \nNAM’s Grant Writing Palooza has a new twist for 2021\, Fundraising Palooza!\nJoin us for two days of webinars on all things Grant Writing and Fundraising. \nKeep scrolling to see the full agenda! \nKeynote Presentation – Asking thru Adversity with Matt Lehrman\, Social Prosperity Partners \nBe more CARING\, CREATIVE\, & COMPELLING with donors\, members\, sponsors\, and other stakeholders.  Emerge with 12 specific actions to weave strength into your nonprofit’s fundraising in the face of disruption and uncertainty.  Matt Lehrman animates the principle that while the future is unknowable\, it’s incredibly malleable. \nREGISTER NOW\nFull Conference Agenda\n*All times notes in Eastern Standard Time Zone* \n  \nTuesday\, June 15th \n10:00 – 11:00 am | The Psychology of Giving – Understand your donors\, their intent\, and how they view philanthropy\nRandall Hallett\, Hallett Philanthropy\, LLC \n11:15 am – 12:15 pm | Online Fundraising Performance – Does Your Nonprofit Measure Up\nJay Wilkinson\, Firespring \n12:45 – 1:45 pm | Panel Discussion \n2:00 – 3:00 pm | Asking Thru Adversity\nMatt Lehrman\, Social Prosperity Partners \nWednesday\, June 16th\n\n10:00 – 11:00 am | Utilizing the Logic Model in Grant Writing\nAgne Dizona\, Joslyn Art Museum \n11:15 am – 12:15 pm | Events in a Digital Age How to Maximize Offline Events in an Online World\nKiersten Hill\, Firespring \n12:30 – 1:45 pm | Panel Discussion \n2:00 – 3:00 pm | The Anti-Small Talk Event\nKevin Mahler\, Contributed Line Fundraising Consultancy & Jessica Janssen Wolford\, University of Nebraska Foundation \n3:15 – 4:15 pm | Data and Funders – Demystifying Reporting and Evaluation\nMatthew Henkes & Malena Rousseau\, Iowa West Foundation
URL:https://wvnpa.org/event/fundraising-palooza/
LOCATION:Webinar
CATEGORIES:Webinar
ATTACH;FMTTYPE=image/png:https://wvnpa.org/content/uploads/NAM_Logo_Transparent.png
END:VEVENT
END:VCALENDAR