BEGIN:VCALENDAR
VERSION:2.0
PRODID:-//Serving Nonprofits. Strengthening West Virginia - ECPv6.15.14//NONSGML v1.0//EN
CALSCALE:GREGORIAN
METHOD:PUBLISH
X-WR-CALNAME:Serving Nonprofits. Strengthening West Virginia
X-ORIGINAL-URL:https://wvnpa.org
X-WR-CALDESC:Events for Serving Nonprofits. Strengthening West Virginia
REFRESH-INTERVAL;VALUE=DURATION:PT1H
X-Robots-Tag:noindex
X-PUBLISHED-TTL:PT1H
BEGIN:VTIMEZONE
TZID:America/New_York
BEGIN:DAYLIGHT
TZOFFSETFROM:-0500
TZOFFSETTO:-0400
TZNAME:EDT
DTSTART:20200308T070000
END:DAYLIGHT
BEGIN:STANDARD
TZOFFSETFROM:-0400
TZOFFSETTO:-0500
TZNAME:EST
DTSTART:20201101T060000
END:STANDARD
BEGIN:DAYLIGHT
TZOFFSETFROM:-0500
TZOFFSETTO:-0400
TZNAME:EDT
DTSTART:20210314T070000
END:DAYLIGHT
BEGIN:STANDARD
TZOFFSETFROM:-0400
TZOFFSETTO:-0500
TZNAME:EST
DTSTART:20211107T060000
END:STANDARD
BEGIN:DAYLIGHT
TZOFFSETFROM:-0500
TZOFFSETTO:-0400
TZNAME:EDT
DTSTART:20220313T070000
END:DAYLIGHT
BEGIN:STANDARD
TZOFFSETFROM:-0400
TZOFFSETTO:-0500
TZNAME:EST
DTSTART:20221106T060000
END:STANDARD
END:VTIMEZONE
BEGIN:VEVENT
DTSTART;TZID=America/New_York:20210708T130000
DTEND;TZID=America/New_York:20210812T144500
DTSTAMP:20260424T072242
CREATED:20210224T184725Z
LAST-MODIFIED:20210224T185607Z
UID:8181-1625749200-1628779500@wvnpa.org
SUMMARY:The Nonprofit Social Media Toolkit
DESCRIPTION:Thursdays\, July 8\, 15\, 22\, 29\, August 5\, 12  $300 for Nonmembers and $240 for Members (email hilaria@dev.wvnpa.org to request the code!) \nREGISTER NOW! \nDon’t just be on social media. Be successful on social media. We’ll explore using social media for branding\, deep engagement\, and fundraising. We’ll also outline how you can integrate and manage social media within a campaign and discuss how to measure your social media impact.  \nSound policies will also be important to your social media strategy—we’ll show you how to clearly articulate what content is acceptable and how you should communicate with constituents through social media platforms.  \nThrough participation in this course\, you will:  \n\nCreate and reinforce your organization’s brand using social media. \nLearn about strategies for engaging supporters and motivating them to act. \nLearn how social media tools can work together to create an integrated campaign that promotes brands and causes through multiple channels. \nBegin the process of creating a social media policy for your organization. \nLearn how to use social media for fundraising. \nDiscover tools to measure social media efforts and learn to make this task effective and manageable. \nDesign a social media strategy. 
URL:https://wvnpa.org/event/the-nonprofit-social-media-toolkit/
LOCATION:Webinar
CATEGORIES:Webinar
ATTACH;FMTTYPE=image/png:https://wvnpa.org/content/uploads/techimpact-logo.png
END:VEVENT
BEGIN:VEVENT
DTSTART;TZID=America/New_York:20210730T090000
DTEND;TZID=America/New_York:20211217T110000
DTSTAMP:20260424T072242
CREATED:20210610T134412Z
LAST-MODIFIED:20210610T135126Z
UID:8699-1627635600-1639738800@wvnpa.org
SUMMARY:Building Bridges Leadership Institute 2021
DESCRIPTION:This series is offered by The Greater Kanawha Valley Foundation. \nJuly 30th\, August 27th\, September 24th\, October 29th\, November 19th\, & December 17th\n9:00 – 11:00 AM\nRegistration Fee: $25\, Scholarships are available \nPlease note\, if you attended this session last year you are asked NOT to register for this year\, but instead recommend BBLI to a friend or colleague. \nREGISTER NOW\n \nREGISTER NOW
URL:https://wvnpa.org/event/building-bridges-leadership-institute-2021/
LOCATION:Webinar
CATEGORIES:Webinar
ATTACH;FMTTYPE=image/jpeg:https://wvnpa.org/content/uploads/cropped-GKVF-RedBox-e1623332635734.jpg
END:VEVENT
BEGIN:VEVENT
DTSTART;TZID=America/New_York:20210803T100000
DTEND;TZID=America/New_York:20210803T130000
DTSTAMP:20260424T072242
CREATED:20210708T201529Z
LAST-MODIFIED:20210709T173512Z
UID:8824-1627984800-1627995600@wvnpa.org
SUMMARY:Intermediate Grantwriting
DESCRIPTION:This workshop is offered in partnership with the Minnesota Council of Nonprofits (MCN).  \nTuesday\, August 3\, 2021\, 10:00 AM – 1:00 PM\nFee: $89 for members (email hilaria@dev.wvnpa.org for the discount code)/$129 for nonmembers \nREGISTER NOW\n\nMany people who work in nonprofits find themselves in the position of “accidental grantwriter” and do not feel fully equipped for the challenge. This session will provide a balance of tools\, practice of skills and significant writing opportunities to deepen participants’ knowledge of and skills in grantwriting. \n\n\nThis intermediate-level training is also a hands-on writing clinic\, in which registrants will receive feedback from other participants about specific sections of one of their grant proposals as well as have an opportunity to create and/or improve some usable grant content for their organizations. \n\n\nLearning Objectives \n\n\n\n\nDevelop grant content for your organization\nAnalyze actual grant applications\, and recognize successful and unsuccessful strategies\nReceive peer feedback on submitted grant applications and on the content written in the workshop\n\n\n\nWorkshop participants will receive a digital copy of the Handbook for Successful Grant Writing that covers topics ranging from research and planning to a glossary of commonly used terms. The Handbook is only available to participants and is not otherwise for sale. \nThis session is focused on writing. For a session on the grantseeking process\, you may wish to instead register for the Beginner Grantwriting: Getting Started session. \nSpeaker Information\nKari Aanestad serves the director of advancement at the Minnesota Council of Nonprofits. In this role\, Kari advances the mission and work of MCN and Minnesota’s nonprofit sector through strategic visioning\, fundraising\, relationship development\, sector research\, and education. Kari also serves as co-director of GrantAdvisor\, an anonymous review site of grantmaking foundations\, and vice president of the Minnesota-Northstar Chapter of the Grant Professionals Association. Kari holds an master of divinity degree from Luther Seminary and bachelor of arts degree from Augsburg College.
URL:https://wvnpa.org/event/intermediate-grantwriting/
LOCATION:Webinar
CATEGORIES:Webinar
ATTACH;FMTTYPE=image/jpeg:https://wvnpa.org/content/uploads/MCN-Logo-1.jpg
END:VEVENT
BEGIN:VEVENT
DTSTART;TZID=America/New_York:20210804T163000
DTEND;TZID=America/New_York:20210804T180000
DTSTAMP:20260424T072242
CREATED:20210708T202445Z
LAST-MODIFIED:20210708T202518Z
UID:8826-1628094600-1628100000@wvnpa.org
SUMMARY:Board Training Series: Models of Governance
DESCRIPTION:This workshop is offered in partnership with the Minnesota Council of Nonprofits (MCN).  \nWednesday\, August 4\, 2021\, 4:30 PM – 6:00 PM\nFee: $45 for members (email hilaria@dev.wvnpa.org for the discount code)/$65 for nonmembers \nREGISTER NOW\n\nGreat boards don’t happen by accident. It takes vision\, planning\, training\, structure\, tools\, technology\, passion\, and dedication to create a high-impact board. In this session\, the presenter will lead nonprofit board members through an educational training on effective models of nonprofit governance. This workshop is great for current and future board members\, along with nonprofit staff who work with boards. \nTopics include: \n\n\nDefine “Governance” what it means to be on a nonprofit board\nDevelop a shared understanding of roles and responsibilities of a nonprofit board member\nLearn the characteristics of a high-impact board\nUnderstand various types of board: working board\, managing board\, policy board\, ratifying board\, and a failing board\n\nEvent Details\nThis workshop is one session of a four-part board training series. The other sessions are Legal Duties on July 7\, Nonprofit Finance on July 21\, and Inclusion and Diversity on August 28 from 3:30 – 5 p.m. central each day. Use the registration button at the top of this page to register only for the Models of Governance workshop. Use the following link to register for the full series for $115 for members and $165 for nonmembers: Register for the full series. \nSpecial discount for this series: This workshop series is great for groups of board members and executive staff to attend together. Register more and save! As a special offer for this series only\, buy three series registrations at the regular price and receive a fourth series registration for free. Instructions for group registrations are available on our Event and Registration FAQ page. \nPlease note that this special discounted rate is only for registrations to the full four-part series and does not apply to registration to individual workshops in the series. \nSpeaker Information\nJennifer Rajala Sawyer is a business entrepreneur\, Partner and Founder of BoardBOS and Rebound Partners. Rebound Partners is an Investment Management and Services company for real estate\, hospitality hotels & restaurants\, manufacturing and banking. BoardBOS is a board governance consulting and technology company offering board operating tools\, educational training and technology systems. Jennifer is dedicated to powering up boards by engaging\, educating and empowering board members and executive leadership teams. \nJennifer specializes in three key areas: board governance\, strategic planning and leadership development for nonprofit organizations and for-profit businesses. She has been trained as a certified executive business coach\, a certified Mastermind facilitator\, and an expert in the EOS Traction Strategic Planning system. \nJennifer is currently a Board Member of Merchants Financial Bank in Winona\, MN\, serving on board Governance and Personnel Committees. She is also a board member and governance chair of Northfield Shares Community Foundation. She is a founding board member of Northfield Area YMCA\, Past Board Chair of Southern Minnesota Initiative Foundation\, and has served on numerous nonprofit boards including St. Olaf Alumni Board\, Junior League of Minneapolis\,  Northfield Arts Guild\, WINGS\,  5th Bridge\, and Bethel Lutheran Church.
URL:https://wvnpa.org/event/board-training-series-models-of-governance/
LOCATION:Webinar
CATEGORIES:Webinar
ATTACH;FMTTYPE=image/jpeg:https://wvnpa.org/content/uploads/MCN-Logo-1.jpg
END:VEVENT
BEGIN:VEVENT
DTSTART;TZID=America/New_York:20210810T150000
DTEND;TZID=America/New_York:20210810T161500
DTSTAMP:20260424T072242
CREATED:20210803T125500Z
LAST-MODIFIED:20210803T125500Z
UID:8937-1628607600-1628612100@wvnpa.org
SUMMARY:Investing ARPA Funds in the Work of Charitable Nonprofits
DESCRIPTION:This webinar is offered in partnership with the National Council of Nonprofits. \nTuesday\, August 10\, 2021\, 3:00 PM – 4:15 PM\nThis is a FREE event. \nUnderstanding (and Securing) New COVID Relief Funds\nDon’t Miss Out on Once-In-a-Generation Opportunity for Support\nHow can your nonprofit access some of the $350 billion that Congress recently allocated for state\, local\, and Tribal governments to help “households\, small businesses\, and nonprofits” recover from the pandemic? What types of activities and costs are eligible for funding from the American Rescue Plan Act (ARPA)? How can nonprofits make sure governments know how important it is to invest in the work of charitable nonprofits in their communities? \nThe answers to these and many other questions will be provided in a free national webinar: Investing ARPA Funds in the Work of Charitable Nonprofits | Promoting Nonprofit-Government Partnerships on Tuesday\, August 10\, 3:00 – 4:15 pm Eastern. \nREGISTER NOW\nBrief Background: The ARPA includes $350 billion for the Coronavirus State and Local Fiscal Recovery Fund to provide “assistance to households\, small businesses\, and nonprofits\, or to aid impacted industries” (emphasis added). State\, local\, and Tribal governments may use the federal funds directly or through others\, meaning that charitable nonprofits can be both the recipient of assistance as well as the provider of assistance to others. In practice\, charitable organizations are eligible for both direct assistance through grant programs and relief of unemployment costs and contracting burdens\, and governments can use the funds to hire nonprofits to expand programs serving the public. \nThis Webinar: Recognizing that charitable nonprofits and governments are natural partners\, serving the same constituents in the same communities\, the webinar opens with remarks from Svante Myrick\, Mayor of Ithaca\, New York\, a noted champion of the work of charitable nonprofits. Nonprofit leaders from across the country will share their experiences working with governments and nonprofits to develop effective COVID-related relief programs. All will offer advice and answer questions on how to make the case for investing the ARPA funds in community-based work performed by charitable organizations in partnerships between nonprofits and governments. Learn how to help set the priorities for spending the ARPA funds\, consider recommendations for how the spending plans should (and should not) be implemented\, and how to make the case for prioritizing the work of nonprofits. Also hear examples of successful approaches that have worked in many parts of the country and can be replicated in your community. \nThe Nonprofit Perspective: Learn more by reading the National Council of Nonprofits’ Special Report: Strengthening State and Local Economies in Partnership with Nonprofits: Principles\, Recommendations\, and Models for Investing Coronavirus State and Local Fiscal Recovery Funds.
URL:https://wvnpa.org/event/investing-arpa-funds-in-the-work-of-charitable-nonprofits/
LOCATION:Webinar
CATEGORIES:Webinar
ATTACH;FMTTYPE=image/png:https://wvnpa.org/content/uploads/National-Council-of-Nonprofits.png
ORGANIZER;CN="National Council of Nonprofits":MAILTO:https://www3.gotomeeting.com/register/363881790
END:VEVENT
BEGIN:VEVENT
DTSTART;TZID=America/New_York:20210818T163000
DTEND;TZID=America/New_York:20210818T180000
DTSTAMP:20260424T072242
CREATED:20210708T202719Z
LAST-MODIFIED:20210708T202719Z
UID:8830-1629304200-1629309600@wvnpa.org
SUMMARY:Board Training Series: Inclusion & Diversity
DESCRIPTION:This workshop is offered in partnership with the Minnesota Council of Nonprofits (MCN).  \nWednesday\, August 18\, 2021\, 4:30 PM – 6:00 PM\nFee: $45 for members (email hilaria@dev.wvnpa.org for the discount code)/$65 for nonmembers \nREGISTER NOW\ns building an inclusive and welcoming board culture a priority for your organization? While very important\, even well-intended efforts to do so can be insensitive and harmful. It matters how your organization recruits board members\, and recruiting efforts must be done thoughtfully to create a culture that values every perspective. How do you diversify board membership? How do you set up an environment that welcomes and encourages diverse perspectives? How do you name the privilege that is in inherently in the room to ensure privileged voices sit back? \nEvent Details\nThis workshop is one session of a four-part board training series. The other sessions are Legal Duties on July 7\, Nonprofit Finance on July 21\, and Models of Governance on August 4 from 3:30 – 5 p.m. central each day. Use the registration button at the top this page to register only for the Inclusion and Diversity workshop. Use the following link to register for the full series for $115 for members and $165 for nonmembers: Register for the full series. \nSpecial discount for this series: This workshop series is great for groups of board members and executive staff to attend together. Register more and save! As a special offer for this series only\, buy three series registrations at the regular price and receive a fourth series registration for free. Instructions for group registrations are available on our Event and Registration FAQ page. \nPlease note that this special discounted rate is only for registrations to the full four-part series and does not apply to registration to individual workshops in the series. \nSpeaker Information\nThe most important thing about Bukata Hayes is that he is the son of Dia Damani and Karen Hayes\, husband to Lisa and father to Damani\, Jalen\, Zavier\, and Zuri. In addition to this\, he has served as the Executive Director of the Greater Mankato Diversity Council\, a non-profit\, focused on diversity\, inclusion and equity in Southern Minnesota since September\, 2006. In March 2020\, he co-authored a book titled\, WRITE on RACE to be RIGHT on RACE Resource Journaling Guide which is a self-study on race highlighting its many impacts on our communities. He also co-hosts a local radio show and podcast called DEI: Engaged Exchanges which discusses issues with diversity\, equity and inclusion with local and statewide leaders. Bukata received his Bachelor’s Degree in Exercise Physiology from the College of St. Scholastica in Duluth\, Minnesota. He has membership and/or is on the board of numerous organizations such as the Mankato Chapter of the NAACP (Executive Committee)\, Martin Luther King Jr. Commemorative Board (President)\, Blue Cross Blue Shield Foundation Board (Vice President) and the Blandin Foundation Board.
URL:https://wvnpa.org/event/board-training-series-inclusion-diversity-2/
LOCATION:Webinar
CATEGORIES:Webinar
ATTACH;FMTTYPE=image/jpeg:https://wvnpa.org/content/uploads/MCN-Logo-1.jpg
END:VEVENT
END:VCALENDAR