BEGIN:VCALENDAR
VERSION:2.0
PRODID:-//Serving Nonprofits. Strengthening West Virginia - ECPv6.15.14//NONSGML v1.0//EN
CALSCALE:GREGORIAN
METHOD:PUBLISH
X-ORIGINAL-URL:https://wvnpa.org
X-WR-CALDESC:Events for Serving Nonprofits. Strengthening West Virginia
REFRESH-INTERVAL;VALUE=DURATION:PT1H
X-Robots-Tag:noindex
X-PUBLISHED-TTL:PT1H
BEGIN:VTIMEZONE
TZID:America/New_York
BEGIN:DAYLIGHT
TZOFFSETFROM:-0500
TZOFFSETTO:-0400
TZNAME:EDT
DTSTART:20210314T070000
END:DAYLIGHT
BEGIN:STANDARD
TZOFFSETFROM:-0400
TZOFFSETTO:-0500
TZNAME:EST
DTSTART:20211107T060000
END:STANDARD
BEGIN:DAYLIGHT
TZOFFSETFROM:-0500
TZOFFSETTO:-0400
TZNAME:EDT
DTSTART:20220313T070000
END:DAYLIGHT
BEGIN:STANDARD
TZOFFSETFROM:-0400
TZOFFSETTO:-0500
TZNAME:EST
DTSTART:20221106T060000
END:STANDARD
BEGIN:DAYLIGHT
TZOFFSETFROM:-0500
TZOFFSETTO:-0400
TZNAME:EDT
DTSTART:20230312T070000
END:DAYLIGHT
BEGIN:STANDARD
TZOFFSETFROM:-0400
TZOFFSETTO:-0500
TZNAME:EST
DTSTART:20231105T060000
END:STANDARD
END:VTIMEZONE
BEGIN:VEVENT
DTSTART;TZID=America/New_York:20220111T100000
DTEND;TZID=America/New_York:20220111T113000
DTSTAMP:20260424T150825
CREATED:20211123T164334Z
LAST-MODIFIED:20211201T215458Z
UID:9531-1641895200-1641900600@wvnpa.org
SUMMARY:West Virginia Policy Institute
DESCRIPTION:January 11\, 2022\n10:00 AM – 11:30 AM ET\nRegistration Fee: FREE for WVNPA and Philanthropy WV Members\, $15 for Nonmembers.  (If you are a nonmember and wish to pay with a check please email hilaria@dev.wvnpa.org) \nREGISTER NOW\n(DRAFT) Agenda\n\nWelcome and remarks from Joint Public Policy Committee Co-Chairs\n\nFacilitated Discussion: How to be a good advocate\, with panelists:\n\nCaitlin Cook\, Director of Advocacy and Public Policy\, Mountaineer Food Bank\nRebecca McPhail\, President\, WV Manufacturers Association\nCrystal Good\, Founder\, Black By God THE WEST VIRGINIAN\nChris Hall\, Senior Government Affairs\, Orion Strategies\n\n\nWhat issues should you watch this session?\nHow to: Technical use of the legislative website and following bills.\nClosing Remarks\n\nMeet the Panelists:\nCaitlin Cook serves as Director of Advocacy and Public Policy at Mountaineer Food Bank. Caitlin graduated from Youngstown State University with degrees in Journalism and Philosophy.  A Charleston\, West Virginia native\, Caitlin has spent her professional career researching\, addressing\, and helping inform debates about a variety of policy issues that impact West Virginians. In her current role\, Caitlin enjoys the opportunity to connect policymakers with experiences\, perspectives\, and needs to better inform food security policy. \n  \nRebecca R. McPhail joined the WVMA as its president in 2013. \nMcPhail previously served at the President of state economic development organization Vision Shared.  Prior to her work at Vision Shared\, McPhail was Assistant Vice President of Development at Marshall University. Before returning to West Virginia in 2003\, she worked as Grant Development and Research Manager and Interim Director of Development for the YMCA of Greater Cleveland in Cleveland\, Ohio. \nMcPhail is a graduate of the West Virginia Institute of Technology with a B.A. in History and Government.  She is a member of the WV Department of Environmental Protection Advisory Council\, the WV Early Childhood Development Council\, serves on the boards of the West Virginia High Technology Foundation\, West Virginia Symphony\, and the YMCA of the Kanawha Valley. She is a graduate of Leadership West Virginia\, was named the West Virginia University Institute of Technology Alumni of the year in 2019 and recognized as 2017 Young Gun by The West Virginia Executive magazine.  \nMcPhail resides in Charleston\, WV with her husband David Yaussy\, and two sons\, Garrett and Owen. \nChris Hall is head of governmental affairs for Orion Strategies and leads the firm’s Charleston office. Hall has worked with legislators on both sides of the aisle as well as elected executive officials and government agencies. He has written numerous bills and shaped volumes of policy over two decades that is now law. He has also managed a number of professional associations and organized grassroots advocacy efforts to affect both state and federal legislation. \nPrior to joining Orion Strategies\, Hall served nearly 14 years as a founding member and managing partner of the Charleston-based public relations and governmental affairs agency TSG Consulting. \nA graduate of West Virginia University\, Hall holds a Bachelor of Science in Journalism specializing in Public Relations\, with minors in Political Science and Business Administration. \nCrystal Good (she/her/hers) is a writer and artist whose work seeks to build a more inclusive and truthful narrative about Central Appalachia. She is the founder and publisher of Black By God THE WEST VIRGINIAN\, a print and multimedia publication centering Black voices to address the information gap. Crystal is the author of “Valley Girl” and holds the completely made up (but totally sincere) office of Social Media Senator for the Digital District of West Virginia\, which encourages digital and political literacy. @cgoodwoman
URL:https://wvnpa.org/event/west-virginia-policy-institute-2/
LOCATION:Webinar\, WV\, United States
CATEGORIES:Meeting,Webinar,WVNPA
ATTACH;FMTTYPE=image/png:https://wvnpa.org/content/uploads/Policy-Institute-1.png
END:VEVENT
BEGIN:VEVENT
DTSTART;TZID=America/New_York:20220113T150000
DTEND;TZID=America/New_York:20220113T163000
DTSTAMP:20260424T150825
CREATED:20211216T202658Z
LAST-MODIFIED:20211216T203825Z
UID:9561-1642086000-1642091400@wvnpa.org
SUMMARY:The Organizational Assessment
DESCRIPTION:This series is offered by Washington Nonprofits.\n\nThursday\, January 13th\, 3:00 PM – 4:30 PM ET\nRegistration Fee: $30 for Members\, $60 for Nonmembers.  Check out the Members Only portal or email hilaria@dev.wvnpa.org for the discount code. \nREGISTER NOW\n \nThe Organizational Assessment – Capturing an Objective Snapshot of Performance & Potential\n\nIs your community impact organization actually having the impact it says?\nAre effectiveness and efficiency proven attributes of your organization?\nWhat role must “lived experience” play in a fair organizational assessment?\nAre the key indicators of financial health\, organizational culture\, community involvement\, and demonstrated leadership in diversity\, equity and inclusion foundations incorporated into your decision-making and planning?\n\nFollowing two years of unprecedented changes\, leaders of community impact organizations must be able to identify the factors affecting the health of their enterprises and relay to the public the results of their work. It is critical that diverse people are speaking from a place of fact to move forward together. \nThis 90-minute overview of organizational assessments offers a framework for participants to consider the key elements of a reasonable review and have a discussion within their own association\, congregation\, or charitable cause about what constitutes reasonable evaluation of the key indicators of their performance. The session will feature a guest speaker that recently completed an organizational assessment for their community impact organization. \nAn organizational assessment is the first step in creating an accountable nonprofit corporation and creates a foundation for deeper-dive fair evaluations aimed at executive director and board performance. \nLearning Outcomes\nAt the conclusion of Part One of “The Accountable Nonprofit\,” you will have tools and information to:\n \n\nFacilitate a deep-dive organizational discussion that will lead to a stated commitment to operating with a “Culture of Accountability” recognizing the role of data in conjunction with lived experience\, anecdotal examples\, and results\nConstruct a thoughtful organizational assessment process for your organization that designates a three-part process for evaluating the organization\, management\, and governance\nConsider specific checklists to be associated with key priorities of your organization such as finance\, fundraising\, employee and volunteer satisfaction\, and diversity\, equity\, inclusion\, and access\n\nIntended Audience\nAll leaders of community impact organizations including board members\, planning volunteers and consultants\, and professional staff \nThis webinar is one segment of a three-part series focused on creating a culture of accountability in your nonprofit. It has been designed for board leadership and the executive\, as well as the consultants and management support organizations who support them\, to engage in developing\, monitoring\, and evaluating performance goals for each of the critical elements of a successful organization: governance\, management\, and organizational performance. \nAbout the Presenter\nJeffrey Wilcox\, CFRE\, is President and Chief Mission Advancement Officer for Third Sector Company. Founded in 2002\, it is one of the largest teaching and support organizations for interim executive management and leadership continuity solutions for associations\, congregations and charitable organizations in the country. He is the former Senior Vice President of Community Development for United Way of Greater Los Angeles\, and Valley of the Sun United Way in Phoenix\, Arizona. He is also the former nonprofit columnist for the Long Beach (CA) Business Journal\, founder of “The Board Chairs Academy\,” and author of “The Nonprofit Leader of the New Decade.” He co-developed and is the former lead trainer for the Wells Fargo New Executive Directors Institute of Greater Los Angeles. He is the immediate past chair of the Executive Advisory Board of the School of Business\, Government and Economics at Seattle Pacific University and was named Alumnus of the Year in 2015. He is a past national chairman of the Executive Transitions and Succession Planning Affinity Group for the Alliance for Nonprofit Management and served as national governance chair for Camp Fire USA. He currently serves on the board of AFP Advancement Northwest in Seattle. \n 
URL:https://wvnpa.org/event/9561/
LOCATION:Webinar\, WV\, United States
CATEGORIES:Webinar
ATTACH;FMTTYPE=image/png:https://wvnpa.org/content/uploads/Washington-Nonprofits.png
END:VEVENT
BEGIN:VEVENT
DTSTART;TZID=America/New_York:20220118T110000
DTEND;TZID=America/New_York:20220118T120000
DTSTAMP:20260424T150825
CREATED:20220112T210442Z
LAST-MODIFIED:20220113T194914Z
UID:9628-1642503600-1642507200@wvnpa.org
SUMMARY:5 Secrets of Email Marketing Geniuses
DESCRIPTION:This session is offered by Firespring.\n\nTuesday\, January 18th\, 4:30 PM – 5:30 PM ET\nRegistration Fee: FREE \nREGISTER NOW\n \nThere is more power and leverage in one email subscriber than 100 Facebook likes or 50 Twitter followers if email marketing is done right. Problem is\, 9 out of 10 nonprofits don’t do it right. \nIn this educational session\, Jay will share the secrets of email marketing geniuses\, including: \n\nThe 5 types of nonprofit emails.\nThe anatomy of an email marketing campaign.\n6 email marketing mistakes to avoid.\n5 secrets of email marketing geniuses.\n\nPresented by Jay Wilkerson\, Founder & CEO of Firespring
URL:https://wvnpa.org/event/5-secrets-of-email-marketing-geninuses/
LOCATION:Webinar\, WV\, United States
CATEGORIES:Webinar
ATTACH;FMTTYPE=image/png:https://wvnpa.org/content/uploads/Firespring-Black-1.png
END:VEVENT
BEGIN:VEVENT
DTSTART;TZID=America/New_York:20220120T150000
DTEND;TZID=America/New_York:20220120T163000
DTSTAMP:20260424T150825
CREATED:20211216T203641Z
LAST-MODIFIED:20211216T213705Z
UID:9567-1642690800-1642696200@wvnpa.org
SUMMARY:The Board Assessment
DESCRIPTION:This series is offered by Washington Nonprofits.\n\nThursday\, January 20th\, 3:00 PM – 4:30 PM ET\nRegistration Fee: $30 for Members\, $60 for Nonmembers.  Check out the Members Only portal or email hilaria@dev.wvnpa.org for the discount code. \nREGISTER NOW\n \nThe Board Assessment – Taking the Pulse of Governance in Action\n\nDoes our community impact organization have the governance structure that it needs to advance its cause?\nWhere is our board falling short in its roles and responsibilities that assures the community good governance is at work for their cause?\nWhat should be included in a board development plan during the new year?\nIs the board exercising due diligence in demonstrating leadership regarding diversity\, equity\, inclusion\, and accessibility?\n\nThere are dramatic shifts taking place in how individuals\, groups\, and organizations view governance of their beloved community causes. From online board and committee meetings to newly created leadership structures and redefined board roles and responsibilities\, community impact organizations are holding their governance behaviors to higher levels of accountability regarding their activities\, decisions\, and responsibilities. \nA periodic governance evaluation reminds each board member of their individual and collective responsibilities to the purpose of the organization. The results can provide facts and documented perceptions for creating a year-long board development strategy. \nThis 90-minute interactive session will present examples of board assessments and feature a guest speaker that recently completed a board assessment and discusses the impact of the results. \nLearning Outcomes\nAt the conclusion of Part Two of “The Accountable Nonprofit\,” you will have tools and information to:\n \n\nLead a discussion with your board leadership about the merits of a regular governance assessment as part of a culture of shared accountability with all other important facets of the organization\nAccess or design a board assessment survey for completion by board members\nIncorporate the results of a board assessment into a board development strategy that seeks to support the board in fulfilling its governance responsibilities to the cause\nConsider formation of a governance committee\, if one does not currently exist\, to oversee an annual board assessment and advance a board development strategy\n\nIntended Audience\nAll leaders of community impact organizations including board members\, governance consultants\, aspiring board members\, and professional staff. \nThis webinar is one segment of a three-part series focused on creating a culture of accountability in your nonprofit. It has been designed for board leadership and the executive\, as well as the consultants and management support organizations who support them\, to engage in developing\, monitoring\, and evaluating performance goals for each of the critical elements of a successful organization: governance\, management\, and organizational performance.\n \nAbout the Presenter\nJeffrey Wilcox\, CFRE\, is President and Chief Mission Advancement Officer for Third Sector Company. Founded in 2002\, it is one of the largest teaching and support organizations for interim executive management and leadership continuity solutions for associations\, congregations and charitable organizations in the country. He is the former Senior Vice President of Community Development for United Way of Greater Los Angeles\, and Valley of the Sun United Way in Phoenix\, Arizona. He is also the former nonprofit columnist for the Long Beach (CA) Business Journal\, founder of “The Board Chairs Academy\,” and author of “The Nonprofit Leader of the New Decade.” He co-developed and is the former lead trainer for the Wells Fargo New Executive Directors Institute of Greater Los Angeles. He is the immediate past chair of the Executive Advisory Board of the School of Business\, Government and Economics at Seattle Pacific University and was named Alumnus of the Year in 2015. He is a past national chairman of the Executive Transitions and Succession Planning Affinity Group for the Alliance for Nonprofit Management and served as national governance chair for Camp Fire USA. He currently serves on the board of AFP Advancement Northwest in Seattle. \n 
URL:https://wvnpa.org/event/9567/
LOCATION:Webinar
CATEGORIES:Webinar
ATTACH;FMTTYPE=image/png:https://wvnpa.org/content/uploads/Washington-Nonprofits.png
END:VEVENT
BEGIN:VEVENT
DTSTART;TZID=America/New_York:20220127T110000
DTEND;TZID=America/New_York:20220127T120000
DTSTAMP:20260424T150825
CREATED:20220117T190828Z
LAST-MODIFIED:20220117T190905Z
UID:9662-1643281200-1643284800@wvnpa.org
SUMMARY:Get More out of Your Donor Management System
DESCRIPTION:This session is offered by TechImpact.\n\nThursday\, January 27th\, 11:00 AM – 12:00 PM ET\nRegistration Fee: FREE (was $50) \nREGISTER NOW\nYou have a donor management system\, but how do you get the most out of it while maintaining it for optimal efficiency? It’s important to keep your data useful and clean\, but how do you do that—and how do you take advantage of all the hidden gems that are in there to make your data truly work for you? \nJoin us to learn about donor management software (DMS) best practices\, including keeping your data tidy and trustworthy\, enriching your understanding of your supporters and prospects\, customizing your DMS\, digging into your data\, and when to consider a new DMS. \nAbout Our Presenter\nKimberly Sanberg \nCairn Strategies \nKimberly Sanberg helps nonprofits to fundraise\, engage supporters\, build awareness\, and achieve their goals with strategic digital marketing and communications\, including social media\, website strategy\, advertising\, and email. 
URL:https://wvnpa.org/event/get-more-out-of-your-donor-management-system/
LOCATION:Webinar\, WV\, United States
CATEGORIES:Webinar
ATTACH;FMTTYPE=image/jpeg:https://wvnpa.org/content/uploads/techimpact_mainlogo_20190806-1-2.jpg
END:VEVENT
BEGIN:VEVENT
DTSTART;TZID=America/New_York:20220127T150000
DTEND;TZID=America/New_York:20220127T163000
DTSTAMP:20260424T150825
CREATED:20211216T204207Z
LAST-MODIFIED:20211216T204231Z
UID:9576-1643295600-1643301000@wvnpa.org
SUMMARY:The Executive Director Performance Review
DESCRIPTION:This series is offered by Washington Nonprofits.\n\nThursday\, January 27th\, 3:00 PM – 4:30 PM ET\nRegistration Fee: $30 for Members\, $60 for Nonmembers.  Check out the Members Only portal or email hilaria@dev.wvnpa.org for the discount code. \nREGISTER NOW\n \nThe Executive Director Performance Review – The Pinnacle for Cultivating Talent to Lead a Community Cause\n\nHow is management adapting to the changing dynamics of creating community impact in partnership with a large group of diverse stakeholders and employees?\nHow important is talent development\, recognition\, and retention in a diverse\, equitable\, and inclusive organization?\nHow does succession planning become a safe space for regular conversation?\nWhen does a performance review become a political process and popularity contest for an employee?\n\nWithout question\, how a community impact organization chooses to evaluate its most senior staff professional tells the entire story about how it values people and their contributions to the cause. It also magnifies to what degree the organization is serious about advancing its cause using clearly articulated plans or methodologies with good leadership. \nWhen the executive performance review is viewed as the culmination of “A Culture of Accountability” it recognizes the outcomes of board and organizational assessments to help inform a fair executive review. \nThis 90-minute session will talk about how the Executive Performance Review sets a standard for all other reviews of the talent at work for a cause. It will also feature a guest speaker who recently completed an executive performance review process. \nLearning Outcomes\nAt the conclusion of Part Three of “The Accountable Nonprofit\,” you will have tools and information to:\n \n\nFacilitate a thoughtful executive performance review based on the outcomes of other evaluations and fair input\nCoordinate an evaluation process that will result in specific discussions about an annual leadership plan\, executive retention\, professional recognition\, and leadership succession\nRecognize the pitfalls of an executive review process that can unintentionally inhibit positive board and executive director relationships\n\nIntended Audience\nExecutive leaders of community impact organizations\, board members\, evaluation consultants and human resource professionals\, and volunteers. \nThis webinar is one segment of a three-part series focused on creating a culture of accountability in your nonprofit. It has been designed for board leadership and the executive\, as well as the consultants and management support organizations who support them\, to engage in developing\, monitoring\, and evaluating performance goals for each of the critical elements of a successful organization: governance\, management\, and organizational performance.\n \nAbout the Presenter\nJeffrey Wilcox\, CFRE\, is President and Chief Mission Advancement Officer for Third Sector Company. Founded in 2002\, it is one of the largest teaching and support organizations for interim executive management and leadership continuity solutions for associations\, congregations and charitable organizations in the country. He is the former Senior Vice President of Community Development for United Way of Greater Los Angeles\, and Valley of the Sun United Way in Phoenix\, Arizona. He is also the former nonprofit columnist for the Long Beach (CA) Business Journal\, founder of “The Board Chairs Academy\,” and author of “The Nonprofit Leader of the New Decade.” He co-developed and is the former lead trainer for the Wells Fargo New Executive Directors Institute of Greater Los Angeles. He is the immediate past chair of the Executive Advisory Board of the School of Business\, Government and Economics at Seattle Pacific University and was named Alumnus of the Year in 2015. He is a past national chairman of the Executive Transitions and Succession Planning Affinity Group for the Alliance for Nonprofit Management and served as national governance chair for Camp Fire USA. He currently serves on the board of AFP Advancement Northwest in Seattle. \n 
URL:https://wvnpa.org/event/the-executive-director-performance-review/
LOCATION:Webinar\, WV\, United States
CATEGORIES:Webinar
ATTACH;FMTTYPE=image/png:https://wvnpa.org/content/uploads/Washington-Nonprofits.png
END:VEVENT
BEGIN:VEVENT
DTSTART;TZID=America/New_York:20220127T160000
DTEND;TZID=America/New_York:20220127T170000
DTSTAMP:20260424T150825
CREATED:20220126T203946Z
LAST-MODIFIED:20220126T203946Z
UID:9743-1643299200-1643302800@wvnpa.org
SUMMARY:Assessing Public Service Loan Forgiveness Webinar
DESCRIPTION:This webinar is being offered by the National Council of Nonprofits and Student Borrower Protection Center \nThursday\, January 27th\, 4:00 PM – 5:00 PM ET\nRegistration Fee: FREE  \nREGISTER NOW\nThe Department of Education recently announced an overhaul of the Public Service Loan Forgiveness program designed to allow millions of public service workers who have been struggling under the weight of student loan debt a path to relief. In short\, borrowers who were previously ineligible because they had the wrong loan\, were making payments on the wrong payment plan\, or were knocked off track due to processing errors can now receive credit toward forgiveness for those years worked in public service. \nOn Thursday\, January 27 at 4 PM ET\, join us and the Student Borrower Protection Center for a webinar highlighting updates to the PSLF program\, guidance on how to navigate the new process\, and an opportunity to ask questions about accessing debt relief.
URL:https://wvnpa.org/event/assessing-public-service-loan-forgiveness-webinar/
LOCATION:Webinar\, WV\, United States
CATEGORIES:Webinar
ORGANIZER;CN="National Council of Nonprofits":MAILTO:https://www3.gotomeeting.com/register/363881790
END:VEVENT
BEGIN:VEVENT
DTSTART;TZID=America/New_York:20220131T083000
DTEND;TZID=America/New_York:20220131T170000
DTSTAMP:20260424T150825
CREATED:20220117T191311Z
LAST-MODIFIED:20220117T191311Z
UID:9665-1643617800-1643648400@wvnpa.org
SUMMARY:On-Demand Course: Tactical Tech Planning for Your Nonprofit
DESCRIPTION:This session is offered by TechImpact.\n\nON DEMAND\nRegistration Fee: FREE Until January 31st (was $199) \nJOIN CLASS\n\nDoes your technology need major upgrades? Where do you start when you feel like every aspect of your infrastructure is out of date? How do you evaluate what’s working and what can be improved with new technology? This 5 hour course will help you spot your organization’s critical technology needs and develop a practical plan for improving your technology infrastructure – even if you don’t have a tech background. \n\n\n\nCourse Description\n\nTech Impact’s On Demand Tactical Technology Planning will help you assess your organization’s technology environment and address your current and future needs. When you complete the training\, you’ll have a fully realized tactical technology action plan to guide your nonprofit through its digital transformation. Using the plan\, you’ll be able to evaluate and prioritize your current technology issues and be better-equipped to tackle future challenges. This course is made up of seven modules: \n1.     Getting Started \n2.     Infrastructure and Security \n3.     Data Management \n4.     Digital Marketing\, Outreach and Fundraising \n5.     Program Service and Delivery \n6.     Technology Strategy and Governance \n7.     Creating Your Tactical Technology Plan \n\n\n\nLearning Goals\n\nIn this course\, you will walk through five key areas of nonprofit technology and learn to assess your organization’s current environment and identify areas for improvement. Following examples and benchmarks\, you’ll complete corresponding workbook activities and learn ways to effectively address your current needs and plan for the future. \nBy the end of this course\, you will be able to: \n\nIdentify and evaluate your organization’s current state of infrastructure.\nAssess your existing data management\, digital marketing\, outreach and fundraising\, program delivery\, and technology strategy.\nDevelop a tactical action plan for your organization’s technology environment.
URL:https://wvnpa.org/event/on-demand-course-tactical-tech-planning-for-your-nonprofit/
LOCATION:Webinar\, WV\, United States
CATEGORIES:Webinar,Workshop
ATTACH;FMTTYPE=image/jpeg:https://wvnpa.org/content/uploads/techimpact_mainlogo_20190806-1-2.jpg
END:VEVENT
END:VCALENDAR