BEGIN:VCALENDAR
VERSION:2.0
PRODID:-//Serving Nonprofits. Strengthening West Virginia - ECPv6.15.14//NONSGML v1.0//EN
CALSCALE:GREGORIAN
METHOD:PUBLISH
X-ORIGINAL-URL:https://wvnpa.org
X-WR-CALDESC:Events for Serving Nonprofits. Strengthening West Virginia
REFRESH-INTERVAL;VALUE=DURATION:PT1H
X-Robots-Tag:noindex
X-PUBLISHED-TTL:PT1H
BEGIN:VTIMEZONE
TZID:America/New_York
BEGIN:DAYLIGHT
TZOFFSETFROM:-0500
TZOFFSETTO:-0400
TZNAME:EDT
DTSTART:20220313T070000
END:DAYLIGHT
BEGIN:STANDARD
TZOFFSETFROM:-0400
TZOFFSETTO:-0500
TZNAME:EST
DTSTART:20221106T060000
END:STANDARD
BEGIN:DAYLIGHT
TZOFFSETFROM:-0500
TZOFFSETTO:-0400
TZNAME:EDT
DTSTART:20230312T070000
END:DAYLIGHT
BEGIN:STANDARD
TZOFFSETFROM:-0400
TZOFFSETTO:-0500
TZNAME:EST
DTSTART:20231105T060000
END:STANDARD
BEGIN:DAYLIGHT
TZOFFSETFROM:-0500
TZOFFSETTO:-0400
TZNAME:EDT
DTSTART:20240310T070000
END:DAYLIGHT
BEGIN:STANDARD
TZOFFSETFROM:-0400
TZOFFSETTO:-0500
TZNAME:EST
DTSTART:20241103T060000
END:STANDARD
END:VTIMEZONE
BEGIN:VEVENT
DTSTART;TZID=America/New_York:20230607T110000
DTEND;TZID=America/New_York:20230607T120000
DTSTAMP:20260425T195042
CREATED:20230512T124138Z
LAST-MODIFIED:20230601T141710Z
UID:11436-1686135600-1686139200@wvnpa.org
SUMMARY:ABC's of 501c3's - Social Media
DESCRIPTION:Wednesday\, June 7th\, 11:00 AM – 12:00 PM\n\nRegistration Fees: FREE for WVNPA Members\, $10 for nonmembers (this is the first in a series of 5 sessions\, save $10 by registering for all 5 today!) \nREGISTER NOW\nClick here to read about the entire series. \nAbout the session:\nOur Social Media session of the ABC’s of 501c3’s was created to assist nonprofit leaders – both staff and board members – to understand the role that social media can play in sharing the story of your nonprofit organizations. This is a safe space to ask the hard questions about how\, when\, and what platforms to engage in\, how to know where the safe spaces are\, and using social media to its fullest for marketing and even fund building. \nParticipants are encouraged to ask questions about all aspects of social media. A nonprofit professional experienced in utilizing different social media formats will answer questions and suggest resources so you never feel alone. \nParticipants can ask questions anonymously by sending questions prior to the session to membership@dev.wvnpa.org\, or ask live during the session. The session will be recorded and made available to participants and WVNPA members as an ongoing resource. \nIn the ABC’s of 501c3’s\, no question is too big or too small and there are no dumb questions. You never know who else you may be helping by asking your question! \nWe can’t wait to see you there! \nAbout the Presenter:\n Kristin Meeks is a 2004 graduate of Marietta College with a BA in Marketing and a 2007\ngraduate of West Virginia University with a masters degree in Integrated Marketing\nCommunications. In 2011\, Meeks founded a unique niche marketing firm\, WV Social\nMedia where she has successfully helped businesses and nonprofits reach their\naudiences through digital marketing. She is actively involved in the area Chamber of\nCommerces\, sits on the MOV Chamber Board of Directors\, is a past president of the\nBelpre Chamber of Commerce and was recently appointed to the Board of Directors for\nthe Entrepreneurship Program at Marietta College. Kristin resides in Williamstown\, WV\,\nwith her husband\, Tim\, and daughter\, Caroline.
URL:https://wvnpa.org/event/abcs-of-501c3s-social-media/
LOCATION:Webinar\, WV\, United States
CATEGORIES:Webinar,WVNPA
ATTACH;FMTTYPE=image/png:https://wvnpa.org/content/uploads/2023-ABC-501c3.png
END:VEVENT
BEGIN:VEVENT
DTSTART;TZID=America/New_York:20230621T110000
DTEND;TZID=America/New_York:20230621T120000
DTSTAMP:20260425T195042
CREATED:20230512T124646Z
LAST-MODIFIED:20230512T124646Z
UID:11440-1687345200-1687348800@wvnpa.org
SUMMARY:ABC's of 501c3's - Making the Case for Increased Capacity
DESCRIPTION:Wednesday\, June 21st\, 11:00 AM – 12:00 PM\n\nRegistration Fees: FREE for WVNPA Members\, $10 for nonmembers (this is the first in a series of 5 sessions\, save $10 by registering for all 5 today!) \nREGISTER NOW\nClick here to read about the entire series. \nAbout the session:\nDetails coming soon! \nAbout the Presenter:\n \nKiersten Hill\nDirector of Nonprofit Solutions\n\nKiersten Hill\, is a Nebraska-native born and raised in North Platte. She graduated from the University of Nebraska–Lincoln. With almost two decades in nonprofit management and fundraising\, she has raised over $20 million for Nebraska nonprofit organizations and worked to better train and equip nonprofit leaders and boards of directors.
URL:https://wvnpa.org/event/abcs-of-501c3s-making-the-case-for-increased-capacity/
LOCATION:Webinar\, WV\, United States
CATEGORIES:Webinar,WVNPA
ATTACH;FMTTYPE=image/png:https://wvnpa.org/content/uploads/Blocks-e1652388243152.png
END:VEVENT
END:VCALENDAR